{
 "currentVersion": 10.91,
 "serviceDescription": "PRECIPITAZIONE_CUMULATA_ASSOLUTA_ANNUALE_2019",
 "name": "ATLANTE/PRECIPITAZIONE_CUMULATA_ASSOLUTA_ANNUALE_2019",
 "description": "PRECIPITAZIONE_CUMULATA_ASSOLUTA_ANNUALE_2019",
 "extent": {
  "xmin": 313360.999831,
  "ymin": 3934041.462118,
  "xmax": 1312106.499586,
  "ymax": 5219713.847188,
  "spatialReference": {
   "wkid": 32632,
   "latestWkid": 32632
  }
 },
 "initialExtent": {
  "xmin": 313360.999831,
  "ymin": 3934041.462118,
  "xmax": 1312106.499586,
  "ymax": 5219713.847188,
  "spatialReference": {
   "wkid": 32632,
   "latestWkid": 32632
  }
 },
 "fullExtent": {
  "xmin": 313360.999831,
  "ymin": 3934041.462118,
  "xmax": 1312106.499586,
  "ymax": 5219713.847188,
  "spatialReference": {
   "wkid": 32632,
   "latestWkid": 32632
  }
 },
 "pixelSizeX": 999.7452450000001,
 "pixelSizeY": 999.7452449999998,
 "bandCount": 1,
 "pixelType": "F32",
 "minPixelSize": 0,
 "maxPixelSize": 0,
 "copyrightText": "",
 "serviceDataType": "esriImageServiceDataTypeGeneric",
 "minValues": [
  371.6719970703125
 ],
 "maxValues": [
  3345.9091796875
 ],
 "meanValues": [
  1074.1319841646036
 ],
 "stdvValues": [
  429.15873913660647
 ],
 "objectIdField": "",
 "fields": [],
 "capabilities": "Image,Metadata,Mensuration",
 "defaultMosaicMethod": "Center",
 "allowedMosaicMethods": "",
 "sortField": "",
 "sortValue": null,
 "sortAscending": true,
 "mosaicOperator": "First",
 "defaultCompressionQuality": 75,
 "defaultResamplingMethod": "Bilinear",
 "maxImageHeight": 4100,
 "maxImageWidth": 15000,
 "allowRasterFunction": true,
 "rasterFunctionInfos": [
  {
   "name": "None",
   "description": "",
   "help": ""
  }
 ],
 "rasterTypeInfos": [
  {
   "name": "Raster Dataset",
   "description": "Supports all ArcGIS Raster Datasets",
   "help": ""
  }
 ],
 "mensurationCapabilities": "Basic",
 "hasHistograms": true,
 "hasColormap": false,
 "hasRasterAttributeTable": false,
 "minScale": 0,
 "maxScale": 0,
 "exportTilesAllowed": false,
 "hasMultidimensions": false,
 "supportsStatistics": false,
 "supportsAdvancedQueries": false,
 "editFieldsInfo": null,
 "ownershipBasedAccessControlForRasters": null,
 "allowComputeTiePoints": false,
 "useStandardizedQueries": true,
 "advancedQueryCapabilities": {
  "useStandardizedQueries": true,
  "supportsStatistics": false,
  "supportsOrderBy": false,
  "supportsDistinct": false,
  "supportsPagination": false
 },
 "spatialReference": {
  "wkid": 32632,
  "latestWkid": 32632
 }
}
