{
 "currentVersion": 10.91,
 "serviceDescription": "Carta geologica del Bacino del Fiume Crati, di T. Taramelli, allegata alla Descrizione orografica e geologica del bacino del fiume Crati nella Calabria Citeriore. 1880, 20x40 cm",
 "name": "carte_storiche/1880_Taramelli_01_B12186",
 "description": "Carta geologica del Bacino del Fiume Crati, di T. Taramelli, allegata alla Descrizione orografica e geologica del bacino del fiume Crati nella Calabria Citeriore. 1880, 20x40 cm",
 "extent": {
  "xmin": 1084180.476890435,
  "ymin": 4357907.102920467,
  "xmax": 1162460.7480949413,
  "ymax": 4457798.639329805,
  "spatialReference": {
   "wkid": 23032,
   "latestWkid": 23032
  }
 },
 "initialExtent": {
  "xmin": 1084180.476890435,
  "ymin": 4357907.102920467,
  "xmax": 1162460.7480949413,
  "ymax": 4457798.639329805,
  "spatialReference": {
   "wkid": 23032,
   "latestWkid": 23032
  }
 },
 "fullExtent": {
  "xmin": 1084180.476890435,
  "ymin": 4357907.102920467,
  "xmax": 1162460.7480949413,
  "ymax": 4457798.639329805,
  "spatialReference": {
   "wkid": 23032,
   "latestWkid": 23032
  }
 },
 "pixelSizeX": 27.897459445654412,
 "pixelSizeY": 25.825112825578596,
 "bandCount": 3,
 "pixelType": "U8",
 "minPixelSize": 0,
 "maxPixelSize": 0,
 "copyrightText": "",
 "serviceDataType": "esriImageServiceDataTypeRGB",
 "minValues": [],
 "maxValues": [],
 "meanValues": [],
 "stdvValues": [],
 "objectIdField": "",
 "fields": [],
 "capabilities": "Image,Metadata,Mensuration",
 "defaultMosaicMethod": "Center",
 "allowedMosaicMethods": "",
 "sortField": "",
 "sortValue": null,
 "sortAscending": true,
 "mosaicOperator": "First",
 "defaultCompressionQuality": 75,
 "defaultResamplingMethod": "Bilinear",
 "maxImageHeight": 4100,
 "maxImageWidth": 15000,
 "allowRasterFunction": true,
 "rasterFunctionInfos": [
  {
   "name": "None",
   "description": "",
   "help": ""
  }
 ],
 "rasterTypeInfos": [
  {
   "name": "Raster Dataset",
   "description": "Supports all ArcGIS Raster Datasets",
   "help": ""
  }
 ],
 "mensurationCapabilities": "Basic",
 "hasHistograms": false,
 "hasColormap": false,
 "hasRasterAttributeTable": false,
 "minScale": 0,
 "maxScale": 0,
 "exportTilesAllowed": false,
 "hasMultidimensions": false,
 "supportsStatistics": false,
 "supportsAdvancedQueries": false,
 "editFieldsInfo": null,
 "ownershipBasedAccessControlForRasters": null,
 "allowComputeTiePoints": false,
 "useStandardizedQueries": true,
 "advancedQueryCapabilities": {
  "useStandardizedQueries": true,
  "supportsStatistics": false,
  "supportsOrderBy": false,
  "supportsDistinct": false,
  "supportsPagination": false
 },
 "spatialReference": {
  "wkid": 23032,
  "latestWkid": 23032
 }
}
