{
 "currentVersion": 10.91,
 "serviceDescription": "Carta geologica del circondario di Rossano, rilevata negli anni 1890-91 da Antonio Fucini. 1896, scala 1:100.000. Allegata agli Studi geologici sul circondario di Rossano in Calabria dello stesso autore. Catania",
 "name": "carte_storiche/1896_fucini_B12179",
 "description": "Carta geologica del circondario di Rossano, rilevata negli anni 1890-91 da Antonio Fucini. 1896, scala 1:100.000. Allegata agli Studi geologici sul circondario di Rossano in Calabria dello stesso autore. Catania",
 "extent": {
  "xmin": 1119126.747680456,
  "ymin": 4382609.735211218,
  "xmax": 1187395.97396217,
  "ymax": 4422904.418849732,
  "spatialReference": {
   "wkid": 23032,
   "latestWkid": 23032
  }
 },
 "initialExtent": {
  "xmin": 1119126.747680456,
  "ymin": 4382609.735211218,
  "xmax": 1187395.97396217,
  "ymax": 4422904.418849732,
  "spatialReference": {
   "wkid": 23032,
   "latestWkid": 23032
  }
 },
 "fullExtent": {
  "xmin": 1119126.747680456,
  "ymin": 4382609.735211218,
  "xmax": 1187395.97396217,
  "ymax": 4422904.418849732,
  "spatialReference": {
   "wkid": 23032,
   "latestWkid": 23032
  }
 },
 "pixelSizeX": 8.93693235786283,
 "pixelSizeY": 9.801674443812702,
 "bandCount": 3,
 "pixelType": "U8",
 "minPixelSize": 0,
 "maxPixelSize": 0,
 "copyrightText": "",
 "serviceDataType": "esriImageServiceDataTypeRGB",
 "minValues": [
  0,
  0,
  0
 ],
 "maxValues": [
  255,
  255,
  255
 ],
 "meanValues": [
  176.70391809828,
  165.77626838158,
  143.0070258111
 ],
 "stdvValues": [
  85.228860156053,
  86.021478960816,
  80.351887595855
 ],
 "objectIdField": "",
 "fields": [],
 "capabilities": "Image,Metadata,Mensuration",
 "defaultMosaicMethod": "Center",
 "allowedMosaicMethods": "",
 "sortField": "",
 "sortValue": null,
 "sortAscending": true,
 "mosaicOperator": "First",
 "defaultCompressionQuality": 75,
 "defaultResamplingMethod": "Bilinear",
 "maxImageHeight": 4100,
 "maxImageWidth": 15000,
 "allowRasterFunction": true,
 "rasterFunctionInfos": [
  {
   "name": "None",
   "description": "",
   "help": ""
  }
 ],
 "rasterTypeInfos": [
  {
   "name": "Raster Dataset",
   "description": "Supports all ArcGIS Raster Datasets",
   "help": ""
  }
 ],
 "mensurationCapabilities": "Basic",
 "hasHistograms": true,
 "hasColormap": false,
 "hasRasterAttributeTable": false,
 "minScale": 0,
 "maxScale": 0,
 "exportTilesAllowed": false,
 "hasMultidimensions": false,
 "supportsStatistics": false,
 "supportsAdvancedQueries": false,
 "editFieldsInfo": null,
 "ownershipBasedAccessControlForRasters": null,
 "allowComputeTiePoints": false,
 "useStandardizedQueries": true,
 "advancedQueryCapabilities": {
  "useStandardizedQueries": true,
  "supportsStatistics": false,
  "supportsOrderBy": false,
  "supportsDistinct": false,
  "supportsPagination": false
 },
 "spatialReference": {
  "wkid": 23032,
  "latestWkid": 23032
 }
}
