{
 "currentVersion": 10.91,
 "serviceDescription": "Carta dell'Isola e Regno di Sardegna, su due fogli, dedicata alla Maestà del Re Carlo Alberto I, rilevata da Alberto Ferrero della Marmora assistito da Carlo De Candia, disegno e incisione di Arnoul Debuissons. 1845, scala 1:250.000",
 "name": "carte_storiche/C31356_nord",
 "description": "Carta dell'Isola e Regno di Sardegna, su due fogli, dedicata alla Maestà del Re Carlo Alberto I, rilevata da Alberto Ferrero della Marmora assistito da Carlo De Candia, disegno e incisione di Arnoul Debuissons. 1845, scala 1:250.000",
 "extent": {
  "xmin": 375364.19932534464,
  "ymin": 4416902.425842008,
  "xmax": 622741.9787156187,
  "ymax": 4613211.23496021,
  "spatialReference": {
   "wkid": 23032,
   "latestWkid": 23032
  }
 },
 "initialExtent": {
  "xmin": 375364.19932534464,
  "ymin": 4416902.425842008,
  "xmax": 622741.9787156187,
  "ymax": 4613211.23496021,
  "spatialReference": {
   "wkid": 23032,
   "latestWkid": 23032
  }
 },
 "fullExtent": {
  "xmin": 375364.19932534464,
  "ymin": 4416902.425842008,
  "xmax": 622741.9787156187,
  "ymax": 4613211.23496021,
  "spatialReference": {
   "wkid": 23032,
   "latestWkid": 23032
  }
 },
 "pixelSizeX": 27.000412507124437,
 "pixelSizeY": 16.94362239929242,
 "bandCount": 3,
 "pixelType": "U8",
 "minPixelSize": 0,
 "maxPixelSize": 0,
 "copyrightText": "",
 "serviceDataType": "esriImageServiceDataTypeRGB",
 "minValues": [
  0,
  0,
  0
 ],
 "maxValues": [
  255,
  255,
  255
 ],
 "meanValues": [
  199.2996306745,
  164.6335845648,
  139.22384799279
 ],
 "stdvValues": [
  49.782859057501,
  52.404496208859,
  43.882796377617
 ],
 "objectIdField": "",
 "fields": [],
 "capabilities": "Image,Metadata,Mensuration",
 "defaultMosaicMethod": "Center",
 "allowedMosaicMethods": "",
 "sortField": "",
 "sortValue": null,
 "sortAscending": true,
 "mosaicOperator": "First",
 "defaultCompressionQuality": 75,
 "defaultResamplingMethod": "Bilinear",
 "maxImageHeight": 4100,
 "maxImageWidth": 15000,
 "allowRasterFunction": true,
 "rasterFunctionInfos": [
  {
   "name": "None",
   "description": "",
   "help": ""
  }
 ],
 "rasterTypeInfos": [
  {
   "name": "Raster Dataset",
   "description": "Supports all ArcGIS Raster Datasets",
   "help": ""
  }
 ],
 "mensurationCapabilities": "Basic",
 "hasHistograms": true,
 "hasColormap": false,
 "hasRasterAttributeTable": false,
 "minScale": 0,
 "maxScale": 0,
 "exportTilesAllowed": false,
 "hasMultidimensions": false,
 "supportsStatistics": false,
 "supportsAdvancedQueries": false,
 "editFieldsInfo": null,
 "ownershipBasedAccessControlForRasters": null,
 "allowComputeTiePoints": false,
 "useStandardizedQueries": true,
 "advancedQueryCapabilities": {
  "useStandardizedQueries": true,
  "supportsStatistics": false,
  "supportsOrderBy": false,
  "supportsDistinct": false,
  "supportsPagination": false
 },
 "spatialReference": {
  "wkid": 23032,
  "latestWkid": 23032
 }
}
