{
 "currentVersion": 10.91,
 "serviceDescription": "Carta dell'Isola e Regno di Sardegna, su due fogli, dedicata alla Maestà del Re Carlo Alberto I, rilevata da Alberto Ferrero della Marmora assistito da Carlo De Candia, disegno e incisione di Arnoul Debuissons. 1845, scala 1:250.000",
 "name": "carte_storiche/C31356_sud",
 "description": "Carta dell'Isola e Regno di Sardegna, su due fogli, dedicata alla Maestà del Re Carlo Alberto I, rilevata da Alberto Ferrero della Marmora assistito da Carlo De Candia, disegno e incisione di Arnoul Debuissons. 1845, scala 1:250.000",
 "extent": {
  "xmin": 374555.85130048683,
  "ymin": 4249355.064110314,
  "xmax": 622025.2934036948,
  "ymax": 4445117.82293002,
  "spatialReference": {
   "wkid": 23032,
   "latestWkid": 23032
  }
 },
 "initialExtent": {
  "xmin": 374555.85130048683,
  "ymin": 4249355.064110314,
  "xmax": 622025.2934036948,
  "ymax": 4445117.82293002,
  "spatialReference": {
   "wkid": 23032,
   "latestWkid": 23032
  }
 },
 "fullExtent": {
  "xmin": 374555.85130048683,
  "ymin": 4249355.064110314,
  "xmax": 622025.2934036948,
  "ymax": 4445117.82293002,
  "spatialReference": {
   "wkid": 23032,
   "latestWkid": 23032
  }
 },
 "pixelSizeX": 27.31752313756573,
 "pixelSizeY": 17.05993540912477,
 "bandCount": 3,
 "pixelType": "U8",
 "minPixelSize": 0,
 "maxPixelSize": 0,
 "copyrightText": "",
 "serviceDataType": "esriImageServiceDataTypeRGB",
 "minValues": [
  0,
  0,
  0
 ],
 "maxValues": [
  255,
  255,
  255
 ],
 "meanValues": [
  200.04364408822,
  172.46246398496,
  145.12988069166
 ],
 "stdvValues": [
  53.566179119682,
  49.332565783418,
  42.704187911517
 ],
 "objectIdField": "",
 "fields": [],
 "capabilities": "Image,Metadata,Mensuration",
 "defaultMosaicMethod": "Center",
 "allowedMosaicMethods": "",
 "sortField": "",
 "sortValue": null,
 "sortAscending": true,
 "mosaicOperator": "First",
 "defaultCompressionQuality": 75,
 "defaultResamplingMethod": "Bilinear",
 "maxImageHeight": 4100,
 "maxImageWidth": 15000,
 "allowRasterFunction": true,
 "rasterFunctionInfos": [
  {
   "name": "None",
   "description": "",
   "help": ""
  }
 ],
 "rasterTypeInfos": [
  {
   "name": "Raster Dataset",
   "description": "Supports all ArcGIS Raster Datasets",
   "help": ""
  }
 ],
 "mensurationCapabilities": "Basic",
 "hasHistograms": true,
 "hasColormap": false,
 "hasRasterAttributeTable": false,
 "minScale": 0,
 "maxScale": 0,
 "exportTilesAllowed": false,
 "hasMultidimensions": false,
 "supportsStatistics": false,
 "supportsAdvancedQueries": false,
 "editFieldsInfo": null,
 "ownershipBasedAccessControlForRasters": null,
 "allowComputeTiePoints": false,
 "useStandardizedQueries": true,
 "advancedQueryCapabilities": {
  "useStandardizedQueries": true,
  "supportsStatistics": false,
  "supportsOrderBy": false,
  "supportsDistinct": false,
  "supportsPagination": false
 },
 "spatialReference": {
  "wkid": 23032,
  "latestWkid": 23032
 }
}
