{
 "currentVersion": 10.91,
 "serviceDescription": "*Carta Geologica Del Monte Vulture, rilevata nel 1898 da Giuseppe De Lorenzo. 1901, scala 1:100.000. Contiene anche \u201cGhiacciai, laghi e vulcani quaternari della Lucania\u201d.",
 "name": "carte_storiche/Carta_Vulture_De_lorenzo",
 "description": "*Carta Geologica Del Monte Vulture, rilevata nel 1898 da Giuseppe De Lorenzo. 1901, scala 1:100.000. Contiene anche \u201cGhiacciai, laghi e vulcani quaternari della Lucania\u201d.",
 "extent": {
  "xmin": 1042047.8999292634,
  "ymin": 4535484.527389354,
  "xmax": 1087529.303015108,
  "ymax": 4568718.325479771,
  "spatialReference": {
   "wkid": 23032,
   "latestWkid": 23032
  }
 },
 "initialExtent": {
  "xmin": 1042047.8999292634,
  "ymin": 4535484.527389354,
  "xmax": 1087529.303015108,
  "ymax": 4568718.325479771,
  "spatialReference": {
   "wkid": 23032,
   "latestWkid": 23032
  }
 },
 "fullExtent": {
  "xmin": 1042047.8999292634,
  "ymin": 4535484.527389354,
  "xmax": 1087529.303015108,
  "ymax": 4568718.325479771,
  "spatialReference": {
   "wkid": 23032,
   "latestWkid": 23032
  }
 },
 "pixelSizeX": 11.18028591097458,
 "pixelSizeY": 11.94600937829509,
 "bandCount": 3,
 "pixelType": "U8",
 "minPixelSize": 0,
 "maxPixelSize": 0,
 "copyrightText": "",
 "serviceDataType": "esriImageServiceDataTypeRGB",
 "minValues": [
  0,
  0,
  0
 ],
 "maxValues": [
  255,
  255,
  250
 ],
 "meanValues": [
  170.62253986054,
  148.58278572971,
  105.1816541863
 ],
 "stdvValues": [
  70.579026695716,
  75.269436982141,
  74.638192919184
 ],
 "objectIdField": "",
 "fields": [],
 "capabilities": "Image,Metadata,Mensuration",
 "defaultMosaicMethod": "Center",
 "allowedMosaicMethods": "",
 "sortField": "",
 "sortValue": null,
 "sortAscending": true,
 "mosaicOperator": "First",
 "defaultCompressionQuality": 75,
 "defaultResamplingMethod": "Bilinear",
 "maxImageHeight": 4100,
 "maxImageWidth": 15000,
 "allowRasterFunction": true,
 "rasterFunctionInfos": [
  {
   "name": "None",
   "description": "",
   "help": ""
  }
 ],
 "rasterTypeInfos": [
  {
   "name": "Raster Dataset",
   "description": "Supports all ArcGIS Raster Datasets",
   "help": ""
  }
 ],
 "mensurationCapabilities": "Basic",
 "hasHistograms": true,
 "hasColormap": false,
 "hasRasterAttributeTable": false,
 "minScale": 0,
 "maxScale": 0,
 "exportTilesAllowed": false,
 "hasMultidimensions": false,
 "supportsStatistics": false,
 "supportsAdvancedQueries": false,
 "editFieldsInfo": null,
 "ownershipBasedAccessControlForRasters": null,
 "allowComputeTiePoints": false,
 "useStandardizedQueries": true,
 "advancedQueryCapabilities": {
  "useStandardizedQueries": true,
  "supportsStatistics": false,
  "supportsOrderBy": false,
  "supportsDistinct": false,
  "supportsPagination": false
 },
 "spatialReference": {
  "wkid": 23032,
  "latestWkid": 23032
 }
}
