{
 "currentVersion": 10.91,
 "serviceDescription": "Carta geologica del Friuli, di Torquato Taramelli, rlevata negli anni 1867-74 e pubblicata in occasione del II Congresso geologico internazionale di Bologna. 1881, scala 1:200.000",
 "name": "carte_storiche/c28632",
 "description": "Carta geologica del Friuli, di Torquato Taramelli, rlevata negli anni 1867-74 e pubblicata in occasione del II Congresso geologico internazionale di Bologna. 1881, scala 1:200.000",
 "extent": {
  "xmin": 746232.3505794756,
  "ymin": 5028160.211147936,
  "xmax": 877835.1659386506,
  "ymax": 5186507.601532715,
  "spatialReference": {
   "wkid": 23032,
   "latestWkid": 23032
  }
 },
 "initialExtent": {
  "xmin": 746232.3505794756,
  "ymin": 5028160.211147936,
  "xmax": 877835.1659386506,
  "ymax": 5186507.601532715,
  "spatialReference": {
   "wkid": 23032,
   "latestWkid": 23032
  }
 },
 "fullExtent": {
  "xmin": 746232.3505794756,
  "ymin": 5028160.211147936,
  "xmax": 877835.1659386506,
  "ymax": 5186507.601532715,
  "spatialReference": {
   "wkid": 23032,
   "latestWkid": 23032
  }
 },
 "pixelSizeX": 37.0712155941338,
 "pixelSizeY": 35.81709802867661,
 "bandCount": 3,
 "pixelType": "U8",
 "minPixelSize": 0,
 "maxPixelSize": 0,
 "copyrightText": "",
 "serviceDataType": "esriImageServiceDataTypeRGB",
 "minValues": [
  0,
  0,
  0
 ],
 "maxValues": [
  217,
  206,
  218
 ],
 "meanValues": [
  164.50563796821,
  146.16049439479,
  127.56295628659
 ],
 "stdvValues": [
  27.021373357892,
  23.845332696088,
  25.183389933206
 ],
 "objectIdField": "",
 "fields": [],
 "capabilities": "Image,Metadata,Mensuration",
 "defaultMosaicMethod": "Center",
 "allowedMosaicMethods": "",
 "sortField": "",
 "sortValue": null,
 "sortAscending": true,
 "mosaicOperator": "First",
 "defaultCompressionQuality": 75,
 "defaultResamplingMethod": "Bilinear",
 "maxImageHeight": 4100,
 "maxImageWidth": 15000,
 "allowRasterFunction": true,
 "rasterFunctionInfos": [
  {
   "name": "None",
   "description": "",
   "help": ""
  }
 ],
 "rasterTypeInfos": [
  {
   "name": "Raster Dataset",
   "description": "Supports all ArcGIS Raster Datasets",
   "help": ""
  }
 ],
 "mensurationCapabilities": "Basic",
 "hasHistograms": true,
 "hasColormap": false,
 "hasRasterAttributeTable": false,
 "minScale": 0,
 "maxScale": 0,
 "exportTilesAllowed": false,
 "hasMultidimensions": false,
 "supportsStatistics": false,
 "supportsAdvancedQueries": false,
 "editFieldsInfo": null,
 "ownershipBasedAccessControlForRasters": null,
 "allowComputeTiePoints": false,
 "useStandardizedQueries": true,
 "advancedQueryCapabilities": {
  "useStandardizedQueries": true,
  "supportsStatistics": false,
  "supportsOrderBy": false,
  "supportsDistinct": false,
  "supportsPagination": false
 },
 "spatialReference": {
  "wkid": 23032,
  "latestWkid": 23032
 }
}
