{
 "currentVersion": 10.91,
 "serviceDescription": "Carta geologica su due fogli delle provincie Lombarde, di Giulio Curioni, con note illustrative manoscritte. 1875, scala 1:72.800",
 "name": "carte_storiche/cgpl001",
 "description": "Carta geologica su due fogli delle provincie Lombarde, di Giulio Curioni, con note illustrative manoscritte. 1875, scala 1:72.800",
 "extent": {
  "xmin": 553853.6165492918,
  "ymin": 5011482.838039626,
  "xmax": 659673.3031356761,
  "ymax": 5173282.889641215,
  "spatialReference": {
   "wkid": 23032,
   "latestWkid": 23032
  }
 },
 "initialExtent": {
  "xmin": 553853.6165492918,
  "ymin": 5011482.838039626,
  "xmax": 659673.3031356761,
  "ymax": 5173282.889641215,
  "spatialReference": {
   "wkid": 23032,
   "latestWkid": 23032
  }
 },
 "fullExtent": {
  "xmin": 553853.6165492918,
  "ymin": 5011482.838039626,
  "xmax": 659673.3031356761,
  "ymax": 5173282.889641215,
  "spatialReference": {
   "wkid": 23032,
   "latestWkid": 23032
  }
 },
 "pixelSizeX": 29.867255598753687,
 "pixelSizeY": 29.780977655363284,
 "bandCount": 3,
 "pixelType": "U8",
 "minPixelSize": 0,
 "maxPixelSize": 0,
 "copyrightText": "",
 "serviceDataType": "esriImageServiceDataTypeRGB",
 "minValues": [
  0,
  0,
  0
 ],
 "maxValues": [
  255,
  255,
  255
 ],
 "meanValues": [
  148.20418837155,
  134.87672616252,
  99.655804895292
 ],
 "stdvValues": [
  74.453136291808,
  71.777351060257,
  66.489765533411
 ],
 "objectIdField": "",
 "fields": [],
 "capabilities": "Image,Metadata,Mensuration",
 "defaultMosaicMethod": "Center",
 "allowedMosaicMethods": "",
 "sortField": "",
 "sortValue": null,
 "sortAscending": true,
 "mosaicOperator": "First",
 "defaultCompressionQuality": 75,
 "defaultResamplingMethod": "Bilinear",
 "maxImageHeight": 4100,
 "maxImageWidth": 15000,
 "allowRasterFunction": true,
 "rasterFunctionInfos": [
  {
   "name": "None",
   "description": "",
   "help": ""
  }
 ],
 "rasterTypeInfos": [
  {
   "name": "Raster Dataset",
   "description": "Supports all ArcGIS Raster Datasets",
   "help": ""
  }
 ],
 "mensurationCapabilities": "Basic",
 "hasHistograms": true,
 "hasColormap": false,
 "hasRasterAttributeTable": false,
 "minScale": 0,
 "maxScale": 0,
 "exportTilesAllowed": false,
 "hasMultidimensions": false,
 "supportsStatistics": false,
 "supportsAdvancedQueries": false,
 "editFieldsInfo": null,
 "ownershipBasedAccessControlForRasters": null,
 "allowComputeTiePoints": false,
 "useStandardizedQueries": true,
 "advancedQueryCapabilities": {
  "useStandardizedQueries": true,
  "supportsStatistics": false,
  "supportsOrderBy": false,
  "supportsDistinct": false,
  "supportsPagination": false
 },
 "spatialReference": {
  "wkid": 23032,
  "latestWkid": 23032
 }
}
