{
 "currentVersion": 10.91,
 "serviceDescription": "Carta geologica su due fogli delle provincie Lombarde, di Giulio Curioni, con note illustrative manoscritte. 1875, scala 1:72.800",
 "name": "carte_storiche/cgpl002",
 "description": "Carta geologica su due fogli delle provincie Lombarde, di Giulio Curioni, con note illustrative manoscritte. 1875, scala 1:72.800",
 "extent": {
  "xmin": 451983.92412698077,
  "ymin": 5017085.09832342,
  "xmax": 566378.7944319958,
  "ymax": 5177825.332754819,
  "spatialReference": {
   "wkid": 23032,
   "latestWkid": 23032
  }
 },
 "initialExtent": {
  "xmin": 451983.92412698077,
  "ymin": 5017085.09832342,
  "xmax": 566378.7944319958,
  "ymax": 5177825.332754819,
  "spatialReference": {
   "wkid": 23032,
   "latestWkid": 23032
  }
 },
 "fullExtent": {
  "xmin": 451983.92412698077,
  "ymin": 5017085.09832342,
  "xmax": 566378.7944319958,
  "ymax": 5177825.332754819,
  "spatialReference": {
   "wkid": 23032,
   "latestWkid": 23032
  }
 },
 "pixelSizeX": 29.798090728058106,
 "pixelSizeY": 29.58590731297608,
 "bandCount": 3,
 "pixelType": "U8",
 "minPixelSize": 0,
 "maxPixelSize": 0,
 "copyrightText": "",
 "serviceDataType": "esriImageServiceDataTypeRGB",
 "minValues": [
  0,
  0,
  0
 ],
 "maxValues": [
  255,
  251,
  255
 ],
 "meanValues": [
  151.41221459438,
  130.16877918396,
  98.533124597668
 ],
 "stdvValues": [
  59.605216305682,
  56.405363393425,
  54.386885310971
 ],
 "objectIdField": "",
 "fields": [],
 "capabilities": "Image,Metadata,Mensuration",
 "defaultMosaicMethod": "Center",
 "allowedMosaicMethods": "",
 "sortField": "",
 "sortValue": null,
 "sortAscending": true,
 "mosaicOperator": "First",
 "defaultCompressionQuality": 75,
 "defaultResamplingMethod": "Bilinear",
 "maxImageHeight": 4100,
 "maxImageWidth": 15000,
 "allowRasterFunction": true,
 "rasterFunctionInfos": [
  {
   "name": "None",
   "description": "",
   "help": ""
  }
 ],
 "rasterTypeInfos": [
  {
   "name": "Raster Dataset",
   "description": "Supports all ArcGIS Raster Datasets",
   "help": ""
  }
 ],
 "mensurationCapabilities": "Basic",
 "hasHistograms": true,
 "hasColormap": false,
 "hasRasterAttributeTable": false,
 "minScale": 0,
 "maxScale": 0,
 "exportTilesAllowed": false,
 "hasMultidimensions": false,
 "supportsStatistics": false,
 "supportsAdvancedQueries": false,
 "editFieldsInfo": null,
 "ownershipBasedAccessControlForRasters": null,
 "allowComputeTiePoints": false,
 "useStandardizedQueries": true,
 "advancedQueryCapabilities": {
  "useStandardizedQueries": true,
  "supportsStatistics": false,
  "supportsOrderBy": false,
  "supportsDistinct": false,
  "supportsPagination": false
 },
 "spatialReference": {
  "wkid": 23032,
  "latestWkid": 23032
 }
}
