{
 "currentVersion": 10.91,
 "serviceDescription": "Carta geologica su due fogli dello Stretto di Messina, di Enzo Beneo direttore del foglio; rilevatori: Jacobacci A., Malatesta A., Motta S. in collaborazione con Regione Siciliana, Assessorato per i Lavori Pubblici. 1964(?), scala 1:25 000",
 "name": "carte_storiche/cgsm001",
 "description": "Carta geologica su due fogli dello Stretto di Messina, di Enzo Beneo direttore del foglio; rilevatori: Jacobacci A., Malatesta A., Motta S. in collaborazione con Regione Siciliana, Assessorato per i Lavori Pubblici. 1964(?), scala 1:25 000",
 "extent": {
  "xmin": 1078483.140091146,
  "ymin": 4242599.550241744,
  "xmax": 1097745.2299283089,
  "ymax": 4265357.484505309,
  "spatialReference": {
   "wkid": 23032,
   "latestWkid": 23032
  }
 },
 "initialExtent": {
  "xmin": 1078483.140091146,
  "ymin": 4242599.550241744,
  "xmax": 1097745.2299283089,
  "ymax": 4265357.484505309,
  "spatialReference": {
   "wkid": 23032,
   "latestWkid": 23032
  }
 },
 "fullExtent": {
  "xmin": 1078483.140091146,
  "ymin": 4242599.550241744,
  "xmax": 1097745.2299283089,
  "ymax": 4265357.484505309,
  "spatialReference": {
   "wkid": 23032,
   "latestWkid": 23032
  }
 },
 "pixelSizeX": 4.659431503909714,
 "pixelSizeY": 4.48079036494677,
 "bandCount": 3,
 "pixelType": "U8",
 "minPixelSize": 0,
 "maxPixelSize": 0,
 "copyrightText": "",
 "serviceDataType": "esriImageServiceDataTypeRGB",
 "minValues": [
  0,
  0,
  0
 ],
 "maxValues": [
  255,
  255,
  255
 ],
 "meanValues": [
  223.19207962314,
  208.09755781142,
  172.35559087739
 ],
 "stdvValues": [
  45.002707119107,
  61.711208118174,
  61.480772637531
 ],
 "objectIdField": "",
 "fields": [],
 "capabilities": "Image,Metadata,Mensuration",
 "defaultMosaicMethod": "Center",
 "allowedMosaicMethods": "",
 "sortField": "",
 "sortValue": null,
 "sortAscending": true,
 "mosaicOperator": "First",
 "defaultCompressionQuality": 75,
 "defaultResamplingMethod": "Bilinear",
 "maxImageHeight": 4100,
 "maxImageWidth": 15000,
 "allowRasterFunction": true,
 "rasterFunctionInfos": [
  {
   "name": "None",
   "description": "",
   "help": ""
  }
 ],
 "rasterTypeInfos": [
  {
   "name": "Raster Dataset",
   "description": "Supports all ArcGIS Raster Datasets",
   "help": ""
  }
 ],
 "mensurationCapabilities": "Basic",
 "hasHistograms": true,
 "hasColormap": false,
 "hasRasterAttributeTable": false,
 "minScale": 0,
 "maxScale": 0,
 "exportTilesAllowed": false,
 "hasMultidimensions": false,
 "supportsStatistics": false,
 "supportsAdvancedQueries": false,
 "editFieldsInfo": null,
 "ownershipBasedAccessControlForRasters": null,
 "allowComputeTiePoints": false,
 "useStandardizedQueries": true,
 "advancedQueryCapabilities": {
  "useStandardizedQueries": true,
  "supportsStatistics": false,
  "supportsOrderBy": false,
  "supportsDistinct": false,
  "supportsPagination": false
 },
 "spatialReference": {
  "wkid": 23032,
  "latestWkid": 23032
 }
}
