{
 "currentVersion": 10.91,
 "serviceDescription": "Carta geologica su due fogli dello Stretto di Messina, di Enzo Beneo direttore del foglio; rilevatori: Jacobacci A., Malatesta A., Motta S. in collaborazione con Regione Siciliana, Assessorato per i Lavori Pubblici. 1964(?), scala 1:25 000",
 "name": "carte_storiche/cgsm002",
 "description": "Carta geologica su due fogli dello Stretto di Messina, di Enzo Beneo direttore del foglio; rilevatori: Jacobacci A., Malatesta A., Motta S. in collaborazione con Regione Siciliana, Assessorato per i Lavori Pubblici. 1964(?), scala 1:25 000",
 "extent": {
  "xmin": 1062668.9566537417,
  "ymin": 4241463.238551148,
  "xmax": 1082073.5864477789,
  "ymax": 4264357.550592029,
  "spatialReference": {
   "wkid": 23032,
   "latestWkid": 23032
  }
 },
 "initialExtent": {
  "xmin": 1062668.9566537417,
  "ymin": 4241463.238551148,
  "xmax": 1082073.5864477789,
  "ymax": 4264357.550592029,
  "spatialReference": {
   "wkid": 23032,
   "latestWkid": 23032
  }
 },
 "fullExtent": {
  "xmin": 1062668.9566537417,
  "ymin": 4241463.238551148,
  "xmax": 1082073.5864477789,
  "ymax": 4264357.550592029,
  "spatialReference": {
   "wkid": 23032,
   "latestWkid": 23032
  }
 },
 "pixelSizeX": 4.627863056054663,
 "pixelSizeY": 4.50764166979333,
 "bandCount": 3,
 "pixelType": "U8",
 "minPixelSize": 0,
 "maxPixelSize": 0,
 "copyrightText": "",
 "serviceDataType": "esriImageServiceDataTypeRGB",
 "minValues": [
  0,
  0,
  0
 ],
 "maxValues": [
  255,
  255,
  255
 ],
 "meanValues": [
  212.27207870482,
  191.04617031877,
  159.47248577287
 ],
 "stdvValues": [
  53.5692631427,
  74.411594230643,
  71.321310263107
 ],
 "objectIdField": "",
 "fields": [],
 "capabilities": "Image,Metadata,Mensuration",
 "defaultMosaicMethod": "Center",
 "allowedMosaicMethods": "",
 "sortField": "",
 "sortValue": null,
 "sortAscending": true,
 "mosaicOperator": "First",
 "defaultCompressionQuality": 75,
 "defaultResamplingMethod": "Bilinear",
 "maxImageHeight": 4100,
 "maxImageWidth": 15000,
 "allowRasterFunction": true,
 "rasterFunctionInfos": [
  {
   "name": "None",
   "description": "",
   "help": ""
  }
 ],
 "rasterTypeInfos": [
  {
   "name": "Raster Dataset",
   "description": "Supports all ArcGIS Raster Datasets",
   "help": ""
  }
 ],
 "mensurationCapabilities": "Basic",
 "hasHistograms": true,
 "hasColormap": false,
 "hasRasterAttributeTable": false,
 "minScale": 0,
 "maxScale": 0,
 "exportTilesAllowed": false,
 "hasMultidimensions": false,
 "supportsStatistics": false,
 "supportsAdvancedQueries": false,
 "editFieldsInfo": null,
 "ownershipBasedAccessControlForRasters": null,
 "allowComputeTiePoints": false,
 "useStandardizedQueries": true,
 "advancedQueryCapabilities": {
  "useStandardizedQueries": true,
  "supportsStatistics": false,
  "supportsOrderBy": false,
  "supportsDistinct": false,
  "supportsPagination": false
 },
 "spatialReference": {
  "wkid": 23032,
  "latestWkid": 23032
 }
}
