{
 "currentVersion": 10.91,
 "serviceDescription": "Abbozzo di carta geologica della Basilicata, di Cosimo De Giorgi. 1879, scala 1:400.000. Roma, Stab. Lit. Virano e Teano, 39x31 cm",
 "name": "carte_storiche/null053",
 "description": "Abbozzo di carta geologica della Basilicata, di Cosimo De Giorgi. 1879, scala 1:400.000. Roma, Stab. Lit. Virano e Teano, 39x31 cm",
 "extent": {
  "xmin": 1017403.7758783519,
  "ymin": 4389566.68897677,
  "xmax": 1197666.3350898128,
  "ymax": 4622760.645028313,
  "spatialReference": {
   "wkid": 23032,
   "latestWkid": 23032
  }
 },
 "initialExtent": {
  "xmin": 1017403.7758783519,
  "ymin": 4389566.68897677,
  "xmax": 1197666.3350898128,
  "ymax": 4622760.645028313,
  "spatialReference": {
   "wkid": 23032,
   "latestWkid": 23032
  }
 },
 "fullExtent": {
  "xmin": 1017403.7758783519,
  "ymin": 4389566.68897677,
  "xmax": 1197666.3350898128,
  "ymax": 4622760.645028313,
  "spatialReference": {
   "wkid": 23032,
   "latestWkid": 23032
  }
 },
 "pixelSizeX": 72.68651581107294,
 "pixelSizeY": 68.08582658439195,
 "bandCount": 3,
 "pixelType": "U8",
 "minPixelSize": 0,
 "maxPixelSize": 0,
 "copyrightText": "",
 "serviceDataType": "esriImageServiceDataTypeRGB",
 "minValues": [
  0,
  0,
  0
 ],
 "maxValues": [
  253,
  255,
  255
 ],
 "meanValues": [
  173.72284642313,
  159.89085575437,
  124.64683264451
 ],
 "stdvValues": [
  50.279468610538,
  50.212409819912,
  61.005327608849
 ],
 "objectIdField": "",
 "fields": [],
 "capabilities": "Image,Metadata,Mensuration",
 "defaultMosaicMethod": "Center",
 "allowedMosaicMethods": "",
 "sortField": "",
 "sortValue": null,
 "sortAscending": true,
 "mosaicOperator": "First",
 "defaultCompressionQuality": 75,
 "defaultResamplingMethod": "Bilinear",
 "maxImageHeight": 4100,
 "maxImageWidth": 15000,
 "allowRasterFunction": true,
 "rasterFunctionInfos": [
  {
   "name": "None",
   "description": "",
   "help": ""
  }
 ],
 "rasterTypeInfos": [
  {
   "name": "Raster Dataset",
   "description": "Supports all ArcGIS Raster Datasets",
   "help": ""
  }
 ],
 "mensurationCapabilities": "Basic",
 "hasHistograms": true,
 "hasColormap": false,
 "hasRasterAttributeTable": false,
 "minScale": 0,
 "maxScale": 0,
 "exportTilesAllowed": false,
 "hasMultidimensions": false,
 "supportsStatistics": false,
 "supportsAdvancedQueries": false,
 "editFieldsInfo": null,
 "ownershipBasedAccessControlForRasters": null,
 "allowComputeTiePoints": false,
 "useStandardizedQueries": true,
 "advancedQueryCapabilities": {
  "useStandardizedQueries": true,
  "supportsStatistics": false,
  "supportsOrderBy": false,
  "supportsDistinct": false,
  "supportsPagination": false
 },
 "spatialReference": {
  "wkid": 23032,
  "latestWkid": 23032
 }
}
