{
 "currentVersion": 10.91,
 "serviceDescription": "Carta geologica della Sicilia del R. Corpo delle Miniere. Autori L. Baldacci, E. Cortese, M. Anselmo, R. Travaglia ; alta direzione scientifica G.G. Gemmellaro. 1883, scala 1:500.000 con Nota illustrativa. Roma, Stab. Lit. Virano e Teano, 81x106 cm.",
 "name": "carte_storiche/null061",
 "description": "Carta geologica della Sicilia del R. Corpo delle Miniere. Autori L. Baldacci, E. Cortese, M. Anselmo, R. Travaglia ; alta direzione scientifica G.G. Gemmellaro. 1883, scala 1:500.000 con Nota illustrativa. Roma, Stab. Lit. Virano e Teano, 81x106 cm.",
 "extent": {
  "xmin": 650644.9467830707,
  "ymin": 3898113.1934322156,
  "xmax": 1268547.1756354428,
  "ymax": 4327405.563895473,
  "spatialReference": {
   "wkid": 23032,
   "latestWkid": 23032
  }
 },
 "initialExtent": {
  "xmin": 650644.9467830707,
  "ymin": 3898113.1934322156,
  "xmax": 1268547.1756354428,
  "ymax": 4327405.563895473,
  "spatialReference": {
   "wkid": 23032,
   "latestWkid": 23032
  }
 },
 "fullExtent": {
  "xmin": 650644.9467830707,
  "ymin": 3898113.1934322156,
  "xmax": 1268547.1756354428,
  "ymax": 4327405.563895473,
  "spatialReference": {
   "wkid": 23032,
   "latestWkid": 23032
  }
 },
 "pixelSizeX": 87.18812316246256,
 "pixelSizeY": 88.66013433772359,
 "bandCount": 3,
 "pixelType": "U8",
 "minPixelSize": 0,
 "maxPixelSize": 0,
 "copyrightText": "",
 "serviceDataType": "esriImageServiceDataTypeRGB",
 "minValues": [
  0,
  0,
  0
 ],
 "maxValues": [
  255,
  255,
  255
 ],
 "meanValues": [
  206.60492678938,
  183.40344514093,
  153.86830058334
 ],
 "stdvValues": [
  48.943103249633,
  52.050120548299,
  56.372202172272
 ],
 "objectIdField": "",
 "fields": [],
 "capabilities": "Image,Metadata,Mensuration",
 "defaultMosaicMethod": "Center",
 "allowedMosaicMethods": "",
 "sortField": "",
 "sortValue": null,
 "sortAscending": true,
 "mosaicOperator": "First",
 "defaultCompressionQuality": 75,
 "defaultResamplingMethod": "Bilinear",
 "maxImageHeight": 4100,
 "maxImageWidth": 15000,
 "allowRasterFunction": true,
 "rasterFunctionInfos": [
  {
   "name": "None",
   "description": "",
   "help": ""
  }
 ],
 "rasterTypeInfos": [
  {
   "name": "Raster Dataset",
   "description": "Supports all ArcGIS Raster Datasets",
   "help": ""
  }
 ],
 "mensurationCapabilities": "Basic",
 "hasHistograms": true,
 "hasColormap": false,
 "hasRasterAttributeTable": false,
 "minScale": 0,
 "maxScale": 0,
 "exportTilesAllowed": false,
 "hasMultidimensions": false,
 "supportsStatistics": false,
 "supportsAdvancedQueries": false,
 "editFieldsInfo": null,
 "ownershipBasedAccessControlForRasters": null,
 "allowComputeTiePoints": false,
 "useStandardizedQueries": true,
 "advancedQueryCapabilities": {
  "useStandardizedQueries": true,
  "supportsStatistics": false,
  "supportsOrderBy": false,
  "supportsDistinct": false,
  "supportsPagination": false
 },
 "spatialReference": {
  "wkid": 23032,
  "latestWkid": 23032
 }
}
