{
 "currentVersion": 10.91,
 "serviceDescription": "Carta della parte settentrionale dell'Etna: eruzione del 1879 con relazione allegata di Luigi Baldacci, Luigi Mezzetti e Riccardo Travaglia geologi del R. Ufficio geologico d\u2019Italia. 1879, scala 1:50 000. Roma, Stab. Lit. Virano e Teano, 37x43 cm",
 "name": "carte_storiche/null062",
 "description": "Carta della parte settentrionale dell'Etna: eruzione del 1879 con relazione allegata di Luigi Baldacci, Luigi Mezzetti e Riccardo Travaglia geologi del R. Ufficio geologico d\u2019Italia. 1879, scala 1:50 000. Roma, Stab. Lit. Virano e Teano, 37x43 cm",
 "extent": {
  "xmin": 1018737.9398778158,
  "ymin": 4191022.5691750413,
  "xmax": 1044330.6308791939,
  "ymax": 4219060.101738881,
  "spatialReference": {
   "wkid": 23032,
   "latestWkid": 23032
  }
 },
 "initialExtent": {
  "xmin": 1018737.9398778158,
  "ymin": 4191022.5691750413,
  "xmax": 1044330.6308791939,
  "ymax": 4219060.101738881,
  "spatialReference": {
   "wkid": 23032,
   "latestWkid": 23032
  }
 },
 "fullExtent": {
  "xmin": 1018737.9398778158,
  "ymin": 4191022.5691750413,
  "xmax": 1044330.6308791939,
  "ymax": 4219060.101738881,
  "spatialReference": {
   "wkid": 23032,
   "latestWkid": 23032
  }
 },
 "pixelSizeX": 9.02740423329034,
 "pixelSizeY": 8.791951258651627,
 "bandCount": 3,
 "pixelType": "U8",
 "minPixelSize": 0,
 "maxPixelSize": 0,
 "copyrightText": "",
 "serviceDataType": "esriImageServiceDataTypeRGB",
 "minValues": [
  0,
  0,
  0
 ],
 "maxValues": [
  255,
  255,
  255
 ],
 "meanValues": [
  205.91281086129,
  184.71827442946,
  150.355888636
 ],
 "stdvValues": [
  26.704021152619,
  34.058637289371,
  43.512776968477
 ],
 "objectIdField": "",
 "fields": [],
 "capabilities": "Image,Metadata,Mensuration",
 "defaultMosaicMethod": "Center",
 "allowedMosaicMethods": "",
 "sortField": "",
 "sortValue": null,
 "sortAscending": true,
 "mosaicOperator": "First",
 "defaultCompressionQuality": 75,
 "defaultResamplingMethod": "Bilinear",
 "maxImageHeight": 4100,
 "maxImageWidth": 15000,
 "allowRasterFunction": true,
 "rasterFunctionInfos": [
  {
   "name": "None",
   "description": "",
   "help": ""
  }
 ],
 "rasterTypeInfos": [
  {
   "name": "Raster Dataset",
   "description": "Supports all ArcGIS Raster Datasets",
   "help": ""
  }
 ],
 "mensurationCapabilities": "Basic",
 "hasHistograms": true,
 "hasColormap": false,
 "hasRasterAttributeTable": false,
 "minScale": 0,
 "maxScale": 0,
 "exportTilesAllowed": false,
 "hasMultidimensions": false,
 "supportsStatistics": false,
 "supportsAdvancedQueries": false,
 "editFieldsInfo": null,
 "ownershipBasedAccessControlForRasters": null,
 "allowComputeTiePoints": false,
 "useStandardizedQueries": true,
 "advancedQueryCapabilities": {
  "useStandardizedQueries": true,
  "supportsStatistics": false,
  "supportsOrderBy": false,
  "supportsDistinct": false,
  "supportsPagination": false
 },
 "spatialReference": {
  "wkid": 23032,
  "latestWkid": 23032
 }
}
