{
 "currentVersion": 10.91,
 "serviceDescription": "Carta geologica di Savoja, Piemonte e Liguria, del Commendatore Angelo Sismonda, pubblicata per cura del governo di S.M. Vittorio Emanuele II Re d'Italia. 1866, scala 1:500.000",
 "name": "carte_storiche/null067",
 "description": "Carta geologica di Savoja, Piemonte e Liguria, del Commendatore Angelo Sismonda, pubblicata per cura del governo di S.M. Vittorio Emanuele II Re d'Italia. 1866, scala 1:500.000",
 "extent": {
  "xmin": 166512.5920644441,
  "ymin": 4792857.109129655,
  "xmax": 619008.3411717156,
  "ymax": 5192531.265220933,
  "spatialReference": {
   "wkid": 23032,
   "latestWkid": 23032
  }
 },
 "initialExtent": {
  "xmin": 166512.5920644441,
  "ymin": 4792857.109129655,
  "xmax": 619008.3411717156,
  "ymax": 5192531.265220933,
  "spatialReference": {
   "wkid": 23032,
   "latestWkid": 23032
  }
 },
 "fullExtent": {
  "xmin": 166512.5920644441,
  "ymin": 4792857.109129655,
  "xmax": 619008.3411717156,
  "ymax": 5192531.265220933,
  "spatialReference": {
   "wkid": 23032,
   "latestWkid": 23032
  }
 },
 "pixelSizeX": 99.51522962552706,
 "pixelSizeY": 76.9047827768477,
 "bandCount": 3,
 "pixelType": "U8",
 "minPixelSize": 0,
 "maxPixelSize": 0,
 "copyrightText": "",
 "serviceDataType": "esriImageServiceDataTypeRGB",
 "minValues": [
  0,
  0,
  0
 ],
 "maxValues": [
  254,
  245,
  255
 ],
 "meanValues": [
  155.99531185899,
  140.01581303226,
  109.10359069628
 ],
 "stdvValues": [
  57.892905625848,
  53.696859435801,
  50.323621796206
 ],
 "objectIdField": "",
 "fields": [],
 "capabilities": "Image,Metadata,Mensuration",
 "defaultMosaicMethod": "Center",
 "allowedMosaicMethods": "",
 "sortField": "",
 "sortValue": null,
 "sortAscending": true,
 "mosaicOperator": "First",
 "defaultCompressionQuality": 75,
 "defaultResamplingMethod": "Bilinear",
 "maxImageHeight": 4100,
 "maxImageWidth": 15000,
 "allowRasterFunction": true,
 "rasterFunctionInfos": [
  {
   "name": "None",
   "description": "",
   "help": ""
  }
 ],
 "rasterTypeInfos": [
  {
   "name": "Raster Dataset",
   "description": "Supports all ArcGIS Raster Datasets",
   "help": ""
  }
 ],
 "mensurationCapabilities": "Basic",
 "hasHistograms": true,
 "hasColormap": false,
 "hasRasterAttributeTable": false,
 "minScale": 0,
 "maxScale": 0,
 "exportTilesAllowed": false,
 "hasMultidimensions": false,
 "supportsStatistics": false,
 "supportsAdvancedQueries": false,
 "editFieldsInfo": null,
 "ownershipBasedAccessControlForRasters": null,
 "allowComputeTiePoints": false,
 "useStandardizedQueries": true,
 "advancedQueryCapabilities": {
  "useStandardizedQueries": true,
  "supportsStatistics": false,
  "supportsOrderBy": false,
  "supportsDistinct": false,
  "supportsPagination": false
 },
 "spatialReference": {
  "wkid": 23032,
  "latestWkid": 23032
 }
}
