{
 "currentVersion": 10.91,
 "serviceDescription": "METIQ hillshade parte marina",
 "name": "servizi/METIQ_mareHillshade",
 "description": "METIQ hillshade parte marina",
 "extent": {
  "xmin": 6.499315986584401,
  "ymin": 35.122161919288835,
  "xmax": 19.732873868753614,
  "ymax": 47.20025777336092,
  "spatialReference": {
   "wkid": 4258,
   "latestWkid": 4258
  }
 },
 "initialExtent": {
  "xmin": 6.499315986584401,
  "ymin": 35.122161919288835,
  "xmax": 19.732873868753614,
  "ymax": 47.20025777336092,
  "spatialReference": {
   "wkid": 4258,
   "latestWkid": 4258
  }
 },
 "fullExtent": {
  "xmin": 6.499315986584401,
  "ymin": 35.122161919288835,
  "xmax": 19.732873868753614,
  "ymax": 47.20025777336092,
  "spatialReference": {
   "wkid": 4258,
   "latestWkid": 4258
  }
 },
 "pixelSizeX": 0.0011924272735780513,
 "pixelSizeY": 0.0011924272735780513,
 "bandCount": 1,
 "pixelType": "U8",
 "minPixelSize": 0,
 "maxPixelSize": 0,
 "copyrightText": "",
 "serviceDataType": "esriImageServiceDataTypeGeneric",
 "minValues": [
  0
 ],
 "maxValues": [
  254
 ],
 "meanValues": [
  179.46115612252
 ],
 "stdvValues": [
  8.6938484205659
 ],
 "objectIdField": "",
 "fields": [],
 "capabilities": "Image,Metadata,Mensuration",
 "defaultMosaicMethod": "Center",
 "allowedMosaicMethods": "",
 "sortField": "",
 "sortValue": null,
 "sortAscending": true,
 "mosaicOperator": "First",
 "defaultCompressionQuality": 75,
 "defaultResamplingMethod": "Bilinear",
 "maxImageHeight": 4100,
 "maxImageWidth": 15000,
 "allowRasterFunction": true,
 "rasterFunctionInfos": [
  {
   "name": "None",
   "description": "",
   "help": ""
  }
 ],
 "rasterTypeInfos": [
  {
   "name": "Raster Dataset",
   "description": "Supports all ArcGIS Raster Datasets",
   "help": ""
  }
 ],
 "mensurationCapabilities": "Basic",
 "hasHistograms": true,
 "hasColormap": false,
 "hasRasterAttributeTable": true,
 "minScale": 0,
 "maxScale": 0,
 "exportTilesAllowed": false,
 "hasMultidimensions": false,
 "supportsStatistics": false,
 "supportsAdvancedQueries": false,
 "editFieldsInfo": null,
 "ownershipBasedAccessControlForRasters": null,
 "allowComputeTiePoints": false,
 "useStandardizedQueries": true,
 "advancedQueryCapabilities": {
  "useStandardizedQueries": true,
  "supportsStatistics": false,
  "supportsOrderBy": false,
  "supportsDistinct": false,
  "supportsPagination": false
 },
 "spatialReference": {
  "wkid": 4258,
  "latestWkid": 4258
 }
}
