{
 "currentVersion": 10.91,
 "serviceDescription": "METIQ hillshade terra",
 "name": "servizi/METIQ_terraHillshade",
 "description": "METIQ hillshade terra",
 "extent": {
  "xmin": 6.268100939860167,
  "ymin": 35.087821789243904,
  "xmax": 19.751016546394403,
  "ymax": 47.23038558681045,
  "spatialReference": {
   "wkid": 4258,
   "latestWkid": 4258
  }
 },
 "initialExtent": {
  "xmin": 6.268100939860167,
  "ymin": 35.087821789243904,
  "xmax": 19.751016546394403,
  "ymax": 47.23038558681045,
  "spatialReference": {
   "wkid": 4258,
   "latestWkid": 4258
  }
 },
 "fullExtent": {
  "xmin": 6.268100939860167,
  "ymin": 35.087821789243904,
  "xmax": 19.751016546394403,
  "ymax": 47.23038558681045,
  "spatialReference": {
   "wkid": 4258,
   "latestWkid": 4258
  }
 },
 "pixelSizeX": 2.7664640019972993E-4,
 "pixelSizeY": 2.7664640019972993E-4,
 "bandCount": 1,
 "pixelType": "U8",
 "minPixelSize": 0,
 "maxPixelSize": 0,
 "copyrightText": "",
 "serviceDataType": "esriImageServiceDataTypeGeneric",
 "minValues": [
  0
 ],
 "maxValues": [
  254
 ],
 "meanValues": [
  172.71441056005
 ],
 "stdvValues": [
  35.478969883778
 ],
 "objectIdField": "",
 "fields": [],
 "capabilities": "Image,Metadata,Mensuration",
 "defaultMosaicMethod": "Center",
 "allowedMosaicMethods": "",
 "sortField": "",
 "sortValue": null,
 "sortAscending": true,
 "mosaicOperator": "First",
 "defaultCompressionQuality": 75,
 "defaultResamplingMethod": "Bilinear",
 "maxImageHeight": 4100,
 "maxImageWidth": 15000,
 "allowRasterFunction": true,
 "rasterFunctionInfos": [
  {
   "name": "None",
   "description": "",
   "help": ""
  }
 ],
 "rasterTypeInfos": [
  {
   "name": "Raster Dataset",
   "description": "Supports all ArcGIS Raster Datasets",
   "help": ""
  }
 ],
 "mensurationCapabilities": "Basic",
 "hasHistograms": true,
 "hasColormap": false,
 "hasRasterAttributeTable": true,
 "minScale": 0,
 "maxScale": 0,
 "exportTilesAllowed": false,
 "hasMultidimensions": false,
 "supportsStatistics": false,
 "supportsAdvancedQueries": false,
 "editFieldsInfo": null,
 "ownershipBasedAccessControlForRasters": null,
 "allowComputeTiePoints": false,
 "useStandardizedQueries": true,
 "advancedQueryCapabilities": {
  "useStandardizedQueries": true,
  "supportsStatistics": false,
  "supportsOrderBy": false,
  "supportsDistinct": false,
  "supportsPagination": false
 },
 "spatialReference": {
  "wkid": 4258,
  "latestWkid": 4258
 }
}
