{
 "currentVersion": 10.91,
 "serviceDescription": "clima/Tmed_ANOMALIA_ANNUALE_2024",
 "name": "clima/Tmed_ANOMALIA_ANNUALE_2024",
 "description": "",
 "extent": {
  "xmin": 313360.999831,
  "ymin": 3934041.462118,
  "xmax": 1312106.499586,
  "ymax": 5219713.847188,
  "spatialReference": {
   "wkid": 32632,
   "latestWkid": 32632
  }
 },
 "initialExtent": {
  "xmin": 313360.999831,
  "ymin": 3934041.462118,
  "xmax": 1312106.499586,
  "ymax": 5219713.847188,
  "spatialReference": {
   "wkid": 32632,
   "latestWkid": 32632
  }
 },
 "fullExtent": {
  "xmin": 313360.999831,
  "ymin": 3934041.462118,
  "xmax": 1312106.499586,
  "ymax": 5219713.847188,
  "spatialReference": {
   "wkid": 32632,
   "latestWkid": 32632
  }
 },
 "hasMultidimensions": false,
 "pixelSizeX": 999.7452450000001,
 "pixelSizeY": 999.7452449999998,
 "datasetFormat": "SDR",
 "uncompressedSize": 5138856,
 "blockWidth": 128,
 "blockHeight": 128,
 "compressionType": "LZ77",
 "bandNames": [
  "Band_1"
 ],
 "allowCopy": true,
 "allowAnalysis": true,
 "bandCount": 1,
 "pixelType": "F32",
 "minPixelSize": 0,
 "maxPixelSize": 0,
 "copyrightText": "",
 "serviceDataType": "esriImageServiceDataTypeGeneric",
 "serviceSourceType": "esriImageServiceSourceTypeDataset",
 "minValues": [
  0.9833359718322754
 ],
 "maxValues": [
  1.8804969787597656
 ],
 "meanValues": [
  1.3049068633522267
 ],
 "stdvValues": [
  0.17453882745454935
 ],
 "objectIdField": "",
 "fields": [],
 "capabilities": "Image,Metadata,Mensuration",
 "defaultMosaicMethod": "Center",
 "allowedMosaicMethods": "",
 "sortField": "",
 "sortValue": null,
 "sortAscending": true,
 "mosaicOperator": "First",
 "defaultCompressionQuality": 75,
 "defaultResamplingMethod": "Bilinear",
 "maxImageHeight": 4100,
 "maxImageWidth": 15000,
 "allowRasterFunction": true,
 "rasterFunctionInfos": [
  {
   "name": "None",
   "description": "",
   "help": ""
  }
 ],
 "rasterTypeInfos": [
  {
   "name": "Raster Dataset",
   "description": "Supports all ArcGIS Raster Datasets",
   "help": ""
  }
 ],
 "mensurationCapabilities": "Basic",
 "hasHistograms": true,
 "hasColormap": false,
 "hasRasterAttributeTable": false,
 "minScale": 0,
 "maxScale": 0,
 "exportTilesAllowed": false,
 "supportsStatistics": false,
 "supportsAdvancedQueries": false,
 "editFieldsInfo": null,
 "ownershipBasedAccessControlForRasters": null,
 "allowComputeTiePoints": false,
 "useStandardizedQueries": true,
 "advancedQueryCapabilities": {
  "useStandardizedQueries": true,
  "supportsStatistics": false,
  "supportsOrderBy": false,
  "supportsDistinct": false,
  "supportsPagination": false
 },
 "spatialReference": {
  "wkid": 32632,
  "latestWkid": 32632
 }
}
