{
 "currentVersion": 10.91,
 "serviceDescription": "La mappa rappresenta la variazione annua della temperatura superficiale del mare espressa in °C/anno relativa al periodo 2008-2022. I dati sono ricavati dalla piattaforma Copernicus (https://www.copernicus.eu/it/servizi/ambiente-marino)\u200b",
 "name": "clima/Variazione_annua_media_Tmare_2008_2022",
 "description": "La mappa rappresenta la variazione annua della temperatura superficiale del mare espressa in °C/anno relativa al periodo 2008-2022. I dati sono ricavati dalla piattaforma Copernicus (https://www.copernicus.eu/it/servizi/ambiente-marino)\u200b",
 "extent": {
  "xmin": 4,
  "ymin": 32.00000000000079,
  "xmax": 21.999999999998995,
  "ymax": 46.00000000000001,
  "spatialReference": {
   "wkid": 4326,
   "latestWkid": 4326
  }
 },
 "initialExtent": {
  "xmin": 4,
  "ymin": 32.00000000000079,
  "xmax": 21.999999999998995,
  "ymax": 46.00000000000001,
  "spatialReference": {
   "wkid": 4326,
   "latestWkid": 4326
  }
 },
 "fullExtent": {
  "xmin": 4,
  "ymin": 32.00000000000079,
  "xmax": 21.999999999998995,
  "ymax": 46.00000000000001,
  "spatialReference": {
   "wkid": 4326,
   "latestWkid": 4326
  }
 },
 "pixelSizeX": 0.008333333333332868,
 "pixelSizeY": 0.008333333333332868,
 "bandCount": 3,
 "pixelType": "U8",
 "minPixelSize": 0,
 "maxPixelSize": 0,
 "copyrightText": "",
 "serviceDataType": "esriImageServiceDataTypeRGB",
 "minValues": [],
 "maxValues": [],
 "meanValues": [],
 "stdvValues": [],
 "objectIdField": "",
 "fields": [],
 "capabilities": "Image,Metadata,Mensuration",
 "defaultMosaicMethod": "Center",
 "allowedMosaicMethods": "",
 "sortField": "",
 "sortValue": null,
 "sortAscending": true,
 "mosaicOperator": "First",
 "defaultCompressionQuality": 75,
 "defaultResamplingMethod": "Nearest",
 "maxImageHeight": 4100,
 "maxImageWidth": 15000,
 "allowRasterFunction": true,
 "rasterFunctionInfos": [
  {
   "name": "None",
   "description": "",
   "help": ""
  }
 ],
 "rasterTypeInfos": [
  {
   "name": "Raster Dataset",
   "description": "Supports all ArcGIS Raster Datasets",
   "help": ""
  }
 ],
 "mensurationCapabilities": "Basic",
 "hasHistograms": false,
 "hasColormap": false,
 "hasRasterAttributeTable": false,
 "minScale": 0,
 "maxScale": 0,
 "exportTilesAllowed": false,
 "hasMultidimensions": false,
 "supportsStatistics": false,
 "supportsAdvancedQueries": false,
 "editFieldsInfo": null,
 "ownershipBasedAccessControlForRasters": null,
 "allowComputeTiePoints": false,
 "useStandardizedQueries": true,
 "advancedQueryCapabilities": {
  "useStandardizedQueries": true,
  "supportsStatistics": false,
  "supportsOrderBy": false,
  "supportsDistinct": false,
  "supportsPagination": false
 },
 "spatialReference": {
  "wkid": 4326,
  "latestWkid": 4326
 }
}
