{
 "currentVersion": 10.91,
 "serviceDescription": "sina_raster/ecoatlante_precipitazione_annua_media_1951_2022",
 "name": "sina_raster/ecoatlante_precipitazione_annua_media_1951_2022",
 "description": "",
 "extent": {
  "xmin": 3900000,
  "ymin": 1300000,
  "xmax": 5200000,
  "ymax": 2700000,
  "spatialReference": {
   "wkid": 3035,
   "latestWkid": 3035
  }
 },
 "initialExtent": {
  "xmin": 3900000,
  "ymin": 1300000,
  "xmax": 5200000,
  "ymax": 2700000,
  "spatialReference": {
   "wkid": 3035,
   "latestWkid": 3035
  }
 },
 "fullExtent": {
  "xmin": 3900000,
  "ymin": 1300000,
  "xmax": 5200000,
  "ymax": 2700000,
  "spatialReference": {
   "wkid": 3035,
   "latestWkid": 3035
  }
 },
 "hasMultidimensions": false,
 "pixelSizeX": 1000,
 "pixelSizeY": 1000,
 "datasetFormat": "SDR",
 "uncompressedSize": 7280000,
 "blockWidth": 128,
 "blockHeight": 128,
 "compressionType": "LZ77",
 "bandNames": [
  "Band_1"
 ],
 "allowCopy": true,
 "allowAnalysis": true,
 "bandCount": 1,
 "pixelType": "F32",
 "minPixelSize": 0,
 "maxPixelSize": 0,
 "copyrightText": "",
 "serviceDataType": "esriImageServiceDataTypeGeneric",
 "serviceSourceType": "esriImageServiceSourceTypeDataset",
 "minValues": [
  350.11151123046875
 ],
 "maxValues": [
  3119.2880859375
 ],
 "meanValues": [
  947.669748770259
 ],
 "stdvValues": [
  321.42378329830336
 ],
 "objectIdField": "",
 "fields": [],
 "capabilities": "Image,Metadata,Mensuration",
 "defaultMosaicMethod": "Center",
 "allowedMosaicMethods": "",
 "sortField": "",
 "sortValue": null,
 "sortAscending": true,
 "mosaicOperator": "First",
 "defaultCompressionQuality": 75,
 "defaultResamplingMethod": "Bilinear",
 "maxImageHeight": 4100,
 "maxImageWidth": 15000,
 "allowRasterFunction": true,
 "rasterFunctionInfos": [
  {
   "name": "None",
   "description": "",
   "help": ""
  }
 ],
 "rasterTypeInfos": [
  {
   "name": "Raster Dataset",
   "description": "Supports all ArcGIS Raster Datasets",
   "help": ""
  }
 ],
 "mensurationCapabilities": "Basic",
 "hasHistograms": true,
 "hasColormap": false,
 "hasRasterAttributeTable": false,
 "minScale": 0,
 "maxScale": 0,
 "exportTilesAllowed": false,
 "supportsStatistics": false,
 "supportsAdvancedQueries": false,
 "editFieldsInfo": null,
 "ownershipBasedAccessControlForRasters": null,
 "allowComputeTiePoints": false,
 "useStandardizedQueries": true,
 "advancedQueryCapabilities": {
  "useStandardizedQueries": true,
  "supportsStatistics": false,
  "supportsOrderBy": false,
  "supportsDistinct": false,
  "supportsPagination": false
 },
 "spatialReference": {
  "wkid": 3035,
  "latestWkid": 3035
 }
}
