View In:
ArcGIS JavaScript
ArcGIS Online Map Viewer
ArcGIS Earth
ArcMap
View Footprint In:
ArcGIS Online Map Viewer
Service Description: ATLANTE/PRECIP_CUM_ANOMAL_PERC_1991_2020_ANN_2023
Name: ATLANTE/PRECIP_CUM_ANOMAL_PERC_1991_2020_ANN_2023
Description:
Single Fused Map Cache: false
Extent:
XMin: 313360.999831
YMin: 3934041.4621175528
XMax: 1312106.4995859982
YMax: 5219713.847188
Spatial Reference: 32632
(32632)
Initial Extent:
XMin: 313360.999831
YMin: 3934041.4621175528
XMax: 1312106.4995859982
YMax: 5219713.847188
Spatial Reference: 32632
(32632)
Full Extent:
XMin: 313360.999831
YMin: 3934041.4621175528
XMax: 1312106.4995859982
YMax: 5219713.847188
Spatial Reference: 32632
(32632)
Pixel Size X: 999.7452449999982
Pixel Size Y: 999.7452450003475
Band Count: 1
Pixel Type: F32
RasterFunction Infos: {"rasterFunctionInfos": [{
"name": "None",
"description": "",
"help": ""
}]}
Mensuration Capabilities: Basic
Has Histograms: true
Has Colormap: false
Has Multi Dimensions : false
Rendering Rule:
Min Scale: 0
Max Scale: 0
Copyright Text:
Service Data Type: esriImageServiceDataTypeGeneric
Min Values: -59.13099670410156
Max Values: 74.88135528564453
Mean Values: -3.8667261569438516
Standard Deviation Values: 17.198814899336394
Object ID Field:
Fields:
None
Default Mosaic Method: Center
Allowed Mosaic Methods:
SortField:
SortValue: null
Mosaic Operator: First
Default Compression Quality: 75
Default Resampling Method: Bilinear
Max Record Count: null
Max Image Height: 4100
Max Image Width: 15000
Max Download Image Count: null
Max Mosaic Image Count: null
Allow Raster Function: true
Allow Copy: true
Allow Analysis: true
Allow Compute TiePoints: false
Supports Statistics: false
Supports Advanced Queries: false
Use StandardizedQueries: true
Raster Type Infos:
Name: Raster Dataset
Description: Supports all ArcGIS Raster Datasets
Help:
Has Raster Attribute Table: false
Edit Fields Info: null
Ownership Based AccessControl For Rasters: null
Child Resources:
Info
Histograms
Statistics
Key Properties
Legend
Raster Function Infos
Supported Operations:
Export Image
Identify
Measure
Compute Histograms
Compute Statistics Histograms
Get Samples
Compute Class Statistics
Query Boundary
Compute Pixel Location
Compute Angles
Validate
Project