View In:
ArcGIS JavaScript
ArcGIS Online Map Viewer
ArcGIS Earth
ArcMap
View Footprint In:
ArcGIS Online Map Viewer
Service Description: TrendSST_1981_2018
Name: ATLANTE/TrendSST_1981_2018
Description: TrendSST_1981_2018
Single Fused Map Cache: false
Extent:
XMin: 4
YMin: 32
XMax: 22
YMax: 46
Spatial Reference: 4326
(4326)
Initial Extent:
XMin: 4
YMin: 32
XMax: 22
YMax: 46
Spatial Reference: 4326
(4326)
Full Extent:
XMin: 4
YMin: 32
XMax: 22
YMax: 46
Spatial Reference: 4326
(4326)
Pixel Size X: 0.041666666666666664
Pixel Size Y: 0.041666666666666664
Band Count: 1
Pixel Type: F32
RasterFunction Infos: {"rasterFunctionInfos": [{
"name": "None",
"description": "",
"help": ""
}]}
Mensuration Capabilities: Basic
Has Histograms: false
Has Colormap: false
Has Multi Dimensions : false
Rendering Rule:
Min Scale: 0
Max Scale: 0
Copyright Text:
Service Data Type: esriImageServiceDataTypeGeneric
Min Values: 0.022650147709481
Max Values: 0.050971010211512
Mean Values: 0.036770293818953
Standard Deviation Values: 0.0050054832057665
Object ID Field:
Fields:
None
Default Mosaic Method: Center
Allowed Mosaic Methods:
SortField:
SortValue: null
Mosaic Operator: First
Default Compression Quality: 75
Default Resampling Method: Bilinear
Max Record Count: null
Max Image Height: 4100
Max Image Width: 15000
Max Download Image Count: null
Max Mosaic Image Count: null
Allow Raster Function: true
Allow Copy: null
Allow Analysis: null
Allow Compute TiePoints: false
Supports Statistics: false
Supports Advanced Queries: false
Use StandardizedQueries: true
Raster Type Infos:
Name: Raster Dataset
Description: Supports all ArcGIS Raster Datasets
Help:
Has Raster Attribute Table: false
Edit Fields Info: null
Ownership Based AccessControl For Rasters: null
Child Resources:
Info
Key Properties
Legend
Raster Function Infos
Supported Operations:
Export Image
Identify
Measure
Compute Histograms
Compute Statistics Histograms
Get Samples
Compute Class Statistics
Query Boundary
Compute Pixel Location
Compute Angles
Validate
Project