View In:
ArcGIS JavaScript
ArcGIS Online Map Viewer
ArcGIS Earth
ArcMap
View Footprint In:
ArcGIS Online Map Viewer
Service Description: Consumo_Suolo/copertura_suolo_2018_2023_v5
Name: Consumo_Suolo/copertura_suolo_2018_2023_v5
Description:
Single Fused Map Cache: false
Extent:
XMin: 4055151.236954459
YMin: 1385997.2242794824
XMax: 5049491.236954459
YMax: 2666707.2242794824
Spatial Reference: 3035
(3035)
Initial Extent:
XMin: 4055151.236954459
YMin: 1385997.2242794824
XMax: 5049491.236954459
YMax: 2666707.2242794824
Spatial Reference: 3035
(3035)
Full Extent:
XMin: 4055151.236954459
YMin: 1385997.2242794824
XMax: 5049491.236954459
YMax: 2666707.2242794824
Spatial Reference: 3035
(3035)
Pixel Size X: 10.0
Pixel Size Y: 10.0
Band Count: 1
Pixel Type: U16
RasterFunction Infos: {"rasterFunctionInfos": [{
"name": "None",
"description": "",
"help": ""
}]}
Mensuration Capabilities: Basic
Has Histograms: true
Has Colormap: false
Has Multi Dimensions : false
Rendering Rule:
Min Scale: 0
Max Scale: 0
Copyright Text:
Service Data Type: esriImageServiceDataTypeGeneric
Min Values: 1110
Max Values: 4000
Mean Values: 2081.807424499312
Standard Deviation Values: 341.85185915360626
Object ID Field:
Fields:
None
Default Mosaic Method: Center
Allowed Mosaic Methods:
SortField:
SortValue: null
Mosaic Operator: First
Default Compression Quality: 75
Default Resampling Method: Nearest
Max Record Count: null
Max Image Height: 4100
Max Image Width: 15000
Max Download Image Count: null
Max Mosaic Image Count: null
Allow Raster Function: true
Allow Copy: true
Allow Analysis: true
Allow Compute TiePoints: false
Supports Statistics: false
Supports Advanced Queries: false
Use StandardizedQueries: true
Raster Type Infos:
Name: Raster Dataset
Description: Supports all ArcGIS Raster Datasets
Help:
Has Raster Attribute Table: true
Edit Fields Info: null
Ownership Based AccessControl For Rasters: null
Child Resources:
Info
Raster Attribute Table
Histograms
Statistics
Key Properties
Legend
Raster Function Infos
Supported Operations:
Export Image
Identify
Measure
Compute Histograms
Compute Statistics Histograms
Get Samples
Compute Class Statistics
Query Boundary
Compute Pixel Location
Compute Angles
Validate
Project