View In:
ArcGIS JavaScript
ArcGIS Online Map Viewer
ArcGIS Earth
ArcMap
ArcGIS Pro
View Footprint In:
ArcGIS Online Map Viewer
Service Description:
Map Name: Carta della permeabilità 100K
Legend
All Layers and Tables
Layers:
Description:
Service Item Id: 0ff0b7c8fff84b6295201d095f19c23e
Copyright Text:
Spatial Reference:
3035
(3035)
Single Fused Map Cache: true
Tile Info:
- Height: 256
- Width: 256
- DPI: 96
-
Levels of Detail: 19
-
Level ID: 0
[ Start Tile, End Tile ]
- Resolution: 99589.09303461589
- Scale: 3.7639972170563483E8
-
Level ID: 1
[ Start Tile, End Tile ]
- Resolution: 49794.54651730794
- Scale: 1.8819986085281742E8
-
Level ID: 2
[ Start Tile, End Tile ]
- Resolution: 24897.27325865397
- Scale: 9.409993042640871E7
-
Level ID: 3
[ Start Tile, End Tile ]
- Resolution: 12448.636629326986
- Scale: 4.7049965213204354E7
-
Level ID: 4
[ Start Tile, End Tile ]
- Resolution: 6224.318314663493
- Scale: 2.3524982606602177E7
-
Level ID: 5
[ Start Tile, End Tile ]
- Resolution: 3112.1591573317464
- Scale: 1.1762491303301089E7
-
Level ID: 6
[ Start Tile, End Tile ]
- Resolution: 1556.0795786658732
- Scale: 5881245.651650544
-
Level ID: 7
[ Start Tile, End Tile ]
- Resolution: 778.0397893329366
- Scale: 2940622.825825272
-
Level ID: 8
[ Start Tile, End Tile ]
- Resolution: 389.0198946664683
- Scale: 1470311.412912636
-
Level ID: 9
[ Start Tile, End Tile ]
- Resolution: 194.50994733323415
- Scale: 735155.706456318
-
Level ID: 10
[ Start Tile, End Tile ]
- Resolution: 97.25497366661708
- Scale: 367577.853228159
-
Level ID: 11
[ Start Tile, End Tile ]
- Resolution: 48.62748683330854
- Scale: 183788.9266140795
-
Level ID: 12
[ Start Tile, End Tile ]
- Resolution: 24.31374341665427
- Scale: 91894.46330703975
-
Level ID: 13
[ Start Tile, End Tile ]
- Resolution: 12.156871708327134
- Scale: 45947.23165351988
-
Level ID: 14
[ Start Tile, End Tile ]
- Resolution: 6.078435854163567
- Scale: 22973.61582675994
-
Level ID: 15
[ Start Tile, End Tile ]
- Resolution: 3.0392179270817836
- Scale: 11486.80791337997
-
Level ID: 16
[ Start Tile, End Tile ]
- Resolution: 1.5196089635408918
- Scale: 5743.403956689985
-
Level ID: 17
[ Start Tile, End Tile ]
- Resolution: 0.7598044817704459
- Scale: 2871.7019783449923
-
Level ID: 18
[ Start Tile, End Tile ]
- Resolution: 0.37990224088522295
- Scale: 1435.8509891724962
- Format: PNG
- Compression Quality: 0.0
- Origin: X: -8426403.908430833
Y: 1.59574039084494E7
- Spatial Reference: 3035
(3035)
Initial Extent:
XMin: 3511907.0898934724
YMin: 1321768.4778243373
XMax: 5592735.776306528
YMax: 2731087.906775663
Spatial Reference: 3035
(3035)
Full Extent:
XMin: 4055155.9143000003
YMin: 1386157.5435000006
XMax: 5049486.9519
YMax: 2666698.8411
Spatial Reference: 3035
(3035)
Units: esriMeters
Supported Image Format Types: PNG32,PNG24,PNG,JPG,DIB,TIFF,EMF,PS,PDF,GIF,SVG,SVGZ,BMP
Document Info:
Title: C:\Users\Maria Pia Congi\Documents\ArcGIS\Projects\CartadellaPERM100K\CartadellaPERM100K.aprx
Author:
Comments:
Subject:
Category:
Keywords:
AntialiasingMode: None
TextAntialiasingMode: Force
Supports Dynamic Layers: false
MaxRecordCount: 1000
MaxImageHeight: 4096
MaxImageWidth: 4096
Supported Query Formats: JSON, geoJSON, PBF
Supports Query Data Elements: true
Min Scale: 5881245.651650544
Max Scale: 367577.853228159
Supports Datum Transformation: true
Child Resources:
Info
Supported Operations:
QueryLegends
Return Updates