View In:
ArcGIS JavaScript
ArcGIS Online Map Viewer
ArcGIS Earth
ArcMap
ArcGIS Pro
View Footprint In:
ArcGIS Online Map Viewer
Service Description: ISPRA - Istituto Superiore per la Protezione e la Ricerca Ambientale
Progetto IFFI (Inventario dei Fenomeni Franosi in Italia)
Map Name: ISPRA_Landslide_Inventory
Legend
All Layers and Tables
Layers:
Description: ISPRA - Istituto Superiore per la Protezione e la Ricerca Ambientale
Progetto IFFI (Inventario dei Fenomeni Franosi in Italia)
Service Item Id: 91eec5f9f79142208aa73df56cf0b73b
Copyright Text:
Spatial Reference:
102100
(3857)
Single Fused Map Cache: true
Tile Info:
- Height: 256
- Width: 256
- DPI: 96
-
Levels of Detail: 24
-
Level ID: 1
[ Start Tile, End Tile ]
- Resolution: 78271.5169639999
- Scale: 2.95828763795777E8
-
Level ID: 2
[ Start Tile, End Tile ]
- Resolution: 39135.7584820001
- Scale: 1.47914381897889E8
-
Level ID: 3
[ Start Tile, End Tile ]
- Resolution: 19567.8792409999
- Scale: 7.3957190948944E7
-
Level ID: 4
[ Start Tile, End Tile ]
- Resolution: 9783.93962049996
- Scale: 3.6978595474472E7
-
Level ID: 5
[ Start Tile, End Tile ]
- Resolution: 4891.96981024998
- Scale: 1.8489297737236E7
- Format: PNG
- Compression Quality: 0.0
- Origin: X: -2.0037508342787E7
Y: 2.0037508342787E7
- Spatial Reference: 102100
(3857)
Initial Extent:
XMin: 463235.7092848553
YMin: 4308841.7959862845
XMax: 2501204.231959869
YMax: 5851369.554211193
Spatial Reference: 102100
(3857)
Full Extent:
XMin: 667916.9447596414
YMin: 4163881.144064292
XMax: 2003750.8342789242
YMax: 5942074.072431109
Spatial Reference: 102100
(3857)
Units: esriMeters
Supported Image Format Types: PNG32,PNG24,PNG,JPG,DIB,TIFF,EMF,PS,PDF,GIF,SVG,SVGZ,BMP
Document Info:
Title: ISPRA_Landslide_Inventory
Author:
Comments: ISPRA - Istituto Superiore per la Protezione e la Ricerca Ambientale
Progetto IFFI (Inventario dei Fenomeni Franosi in Italia)
Subject: progetto IFFI servizio WMS pubblico
Category:
Keywords: proggetto IFFI WMS pubblico
AntialiasingMode: Fast
TextAntialiasingMode: Force
Supports Dynamic Layers: false
MaxRecordCount: 1000
MaxImageHeight: 4096
MaxImageWidth: 4096
Supported Query Formats: JSON, geoJSON, PBF
Supports Query Data Elements:
Min Scale: 5.91657527591555E8
Max Scale: 288895.277144
Supports Datum Transformation: true
Child Resources:
Info
Supported Operations:
QueryLegends
Return Updates