View In:
ArcGIS JavaScript
ArcGIS Online Map Viewer
ArcGIS Earth
ArcMap
View Footprint In:
ArcGIS Online Map Viewer
Service Description: DTM_Tennacola_5m
Name: DTM_Tennacola_5m
Description:
Single Fused Map Cache: false
Extent:
XMin: 354134.9045594318
YMin: 4757731.994148565
XMax: 376199.9045594318
YMax: 4771296.994148565
Spatial Reference: 32633
(32633)
Initial Extent:
XMin: 354134.9045594318
YMin: 4757731.994148565
XMax: 376199.9045594318
YMax: 4771296.994148565
Spatial Reference: 32633
(32633)
Full Extent:
XMin: 354134.9045594318
YMin: 4757731.994148565
XMax: 376199.9045594318
YMax: 4771296.994148565
Spatial Reference: 32633
(32633)
Pixel Size X: 5.0
Pixel Size Y: 5.0
Band Count: 1
Pixel Type: F32
RasterFunction Infos: {"rasterFunctionInfos": [{
"name": "None",
"description": "",
"help": ""
}]}
Mensuration Capabilities: Basic
Has Histograms: false
Has Colormap: false
Has Multi Dimensions : false
Rendering Rule:
Min Scale: 0
Max Scale: 0
Copyright Text:
Service Data Type: esriImageServiceDataTypeGeneric
Min Values: 205.3630065918
Max Values: 1916
Mean Values: 666.18435820892
Standard Deviation Values: 364.78282571547
Object ID Field:
Fields:
None
Default Mosaic Method: Center
Allowed Mosaic Methods:
SortField:
SortValue: null
Mosaic Operator: First
Default Compression Quality: 75
Default Resampling Method: Bilinear
Max Record Count: null
Max Image Height: 4100
Max Image Width: 15000
Max Download Image Count: null
Max Mosaic Image Count: null
Allow Raster Function: true
Allow Copy: true
Allow Analysis: true
Allow Compute TiePoints: false
Supports Statistics: false
Supports Advanced Queries: false
Use StandardizedQueries: true
Raster Type Infos:
Name: Raster Dataset
Description: Supports all ArcGIS Raster Datasets
Help:
Has Raster Attribute Table: false
Edit Fields Info: null
Ownership Based AccessControl For Rasters: null
Child Resources:
Info
Statistics
Key Properties
Legend
Raster Function Infos
Supported Operations:
Export Image
Identify
Measure
Compute Histograms
Compute Statistics Histograms
Get Samples
Compute Class Statistics
Query Boundary
Compute Pixel Location
Compute Angles
Validate
Project