View In:
ArcGIS JavaScript
ArcGIS Online Map Viewer
ArcGIS Earth
ArcMap
View Footprint In:
ArcGIS Online Map Viewer
Service Description: carta del modello struttura d'italia alla scala 1.500,000 prodotta dal CNR
Name: servizi/strutturale_italia_500k_web
Description: carta del modello struttura d'italia alla scala 1.500,000 prodotta dal CNR
Single Fused Map Cache: false
Extent:
XMin: 579808.2292238484
YMin: 4181229.342254838
XMax: 2226167.198208046
YMax: 6151061.523561685
Spatial Reference: 102100
(3857)
Initial Extent:
XMin: 579808.2292238484
YMin: 4181229.342254838
XMax: 2226167.198208046
YMax: 6151061.523561685
Spatial Reference: 102100
(3857)
Full Extent:
XMin: 579808.2292238484
YMin: 4181229.342254838
XMax: 2226167.198208046
YMax: 6151061.523561685
Spatial Reference: 102100
(3857)
Pixel Size X: 65.43297042980001
Pixel Size Y: 64.8269657509
Band Count: 3
Pixel Type: U8
RasterFunction Infos: {"rasterFunctionInfos": [{
"name": "None",
"description": "",
"help": ""
}]}
Mensuration Capabilities: Basic
Has Histograms: true
Has Colormap: false
Has Multi Dimensions : false
Rendering Rule:
Min Scale: 2.95828763795777E8
Max Scale: 288895.277144
Min LOD: 1
Max LOD: 11
Copyright Text:
Service Data Type: esriImageServiceDataTypeRGB
Min Values: 0, 0, 0
Max Values: 255, 255, 255
Mean Values: 184.58679411777, 189.8731251712, 160.09763949599
Standard Deviation Values: 92.226234646123, 90.708192621221, 86.126340044328
Object ID Field:
Fields:
None
Default Mosaic Method: Center
Allowed Mosaic Methods:
SortField:
SortValue: null
Mosaic Operator: First
Default Compression Quality: 75
Default Resampling Method: Bilinear
Max Record Count: null
Max Image Height: 4100
Max Image Width: 15000
Max Download Image Count: null
Max Mosaic Image Count: null
Allow Raster Function: true
Allow Copy: null
Allow Analysis: null
Allow Compute TiePoints: false
Supports Statistics: false
Supports Advanced Queries: false
Use StandardizedQueries: true
Raster Type Infos:
Name: Raster Dataset
Description: Supports all ArcGIS Raster Datasets
Help:
Has Raster Attribute Table: false
Edit Fields Info: null
Ownership Based AccessControl For Rasters: null
Child Resources:
Info
Histograms
Key Properties
Legend
Raster Function Infos
Supported Operations:
Export Image
Identify
Measure
Compute Histograms
Compute Statistics Histograms
Get Samples
Compute Class Statistics
Query Boundary
Compute Pixel Location
Compute Angles
Validate
Project