View In:
ArcGIS JavaScript
ArcGIS Online Map Viewer
ArcGIS Earth
ArcMap
View Footprint In:
ArcGIS Online Map Viewer
Service Description: Tmed_ASSOLUTA_ANNUALE_2021
Name: clima/Tmed_ASSOLUTA_ANNUALE_2021
Description: Tmed_ASSOLUTA_ANNUALE_2021
Single Fused Map Cache: false
Extent:
XMin: 313360.999831
YMin: 3934041.462118
XMax: 1312106.4995859999
YMax: 5219713.847188
Spatial Reference: 25832
(25832)
Initial Extent:
XMin: 313360.999831
YMin: 3934041.462118
XMax: 1312106.4995859999
YMax: 5219713.847188
Spatial Reference: 25832
(25832)
Full Extent:
XMin: 313360.999831
YMin: 3934041.462118
XMax: 1312106.4995859999
YMax: 5219713.847188
Spatial Reference: 25832
(25832)
Pixel Size X: 999.7452449999998
Pixel Size Y: 999.7452449999998
Band Count: 3
Pixel Type: U8
RasterFunction Infos: {"rasterFunctionInfos": [{
"name": "None",
"description": "",
"help": ""
}]}
Mensuration Capabilities: Basic
Has Histograms: false
Has Colormap: false
Has Multi Dimensions : false
Rendering Rule:
Min Scale: 0
Max Scale: 0
Copyright Text:
Service Data Type: esriImageServiceDataTypeRGB
Min Values: N/A
Max Values: N/A
Mean Values: N/A
Standard Deviation Values: N/A
Object ID Field:
Fields:
None
Default Mosaic Method: Center
Allowed Mosaic Methods:
SortField:
SortValue: null
Mosaic Operator: First
Default Compression Quality: 75
Default Resampling Method: Nearest
Max Record Count: null
Max Image Height: 4100
Max Image Width: 15000
Max Download Image Count: null
Max Mosaic Image Count: null
Allow Raster Function: true
Allow Copy: null
Allow Analysis: null
Allow Compute TiePoints: false
Supports Statistics: false
Supports Advanced Queries: false
Use StandardizedQueries: true
Raster Type Infos:
Name: Raster Dataset
Description: Supports all ArcGIS Raster Datasets
Help:
Has Raster Attribute Table: false
Edit Fields Info: null
Ownership Based AccessControl For Rasters: null
Child Resources:
Info
Key Properties
Legend
Raster Function Infos
Supported Operations:
Export Image
Identify
Measure
Compute Histograms
Compute Statistics Histograms
Get Samples
Compute Class Statistics
Query Boundary
Compute Pixel Location
Compute Angles
Validate
Project