View In:
ArcGIS JavaScript
ArcGIS Online Map Viewer
ArcGIS Earth
ArcMap
View Footprint In:
ArcGIS Online Map Viewer
Service Description: sina_raster/tipologie_ecosist_terrestri
Name: sina_raster/tipologie_ecosist_terrestri
Description:
Single Fused Map Cache: false
Extent:
XMin: 4055209.9999999995
YMin: 1386019.9998376986
XMax: 5049410
YMax: 2666699.9998376993
Spatial Reference: 3035
(3035)
Initial Extent:
XMin: 4055209.9999999995
YMin: 1386019.9998376986
XMax: 5049410
YMax: 2666699.9998376993
Spatial Reference: 3035
(3035)
Full Extent:
XMin: 4055209.9999999995
YMin: 1386019.9998376986
XMax: 5049410
YMax: 2666699.9998376993
Spatial Reference: 3035
(3035)
Pixel Size X: 10.000000000000005
Pixel Size Y: 10.000000000000005
Band Count: 1
Pixel Type: U32
RasterFunction Infos: {"rasterFunctionInfos": [{
"name": "None",
"description": "",
"help": ""
}]}
Mensuration Capabilities: Basic
Has Histograms: true
Has Colormap: false
Has Multi Dimensions : false
Rendering Rule:
Min Scale: 0
Max Scale: 0
Copyright Text:
Service Data Type: esriImageServiceDataTypeGeneric
Min Values: 1000
Max Values: 99999
Mean Values: 12614.972684914152
Standard Deviation Values: 28197.528532086933
Object ID Field:
Fields:
None
Default Mosaic Method: Center
Allowed Mosaic Methods:
SortField:
SortValue: null
Mosaic Operator: First
Default Compression Quality: 75
Default Resampling Method: Bilinear
Max Record Count: null
Max Image Height: 4100
Max Image Width: 15000
Max Download Image Count: null
Max Mosaic Image Count: null
Allow Raster Function: true
Allow Copy: true
Allow Analysis: true
Allow Compute TiePoints: false
Supports Statistics: false
Supports Advanced Queries: false
Use StandardizedQueries: true
Raster Type Infos:
Name: Raster Dataset
Description: Supports all ArcGIS Raster Datasets
Help:
Has Raster Attribute Table: true
Edit Fields Info: null
Ownership Based AccessControl For Rasters: null
Child Resources:
Info
Raster Attribute Table
Histograms
Statistics
Key Properties
Legend
Raster Function Infos
Supported Operations:
Export Image
Identify
Measure
Compute Histograms
Compute Statistics Histograms
Get Samples
Compute Class Statistics
Query Boundary
Compute Pixel Location
Compute Angles
Validate
Project