View In:
ArcGIS JavaScript
ArcGIS Online Map Viewer
ArcGIS Earth
ArcMap
View Footprint In:
ArcGIS Online Map Viewer
Service Description: PRECIPITAZIONE_CUMULATA_ASSOLUTA_ANNUALE_2019
Name: ATLANTE/PRECIPITAZIONE_CUMULATA_ASSOLUTA_ANNUALE_2019
Description: PRECIPITAZIONE_CUMULATA_ASSOLUTA_ANNUALE_2019
Single Fused Map Cache: false
Extent:
XMin: 313360.999831
YMin: 3934041.462118
XMax: 1312106.499586
YMax: 5219713.847188
Spatial Reference: 32632
(32632)
Initial Extent:
XMin: 313360.999831
YMin: 3934041.462118
XMax: 1312106.499586
YMax: 5219713.847188
Spatial Reference: 32632
(32632)
Full Extent:
XMin: 313360.999831
YMin: 3934041.462118
XMax: 1312106.499586
YMax: 5219713.847188
Spatial Reference: 32632
(32632)
Pixel Size X: 999.7452450000001
Pixel Size Y: 999.7452449999998
Band Count: 1
Pixel Type: F32
RasterFunction Infos: {"rasterFunctionInfos": [{
"name": "None",
"description": "",
"help": ""
}]}
Mensuration Capabilities: Basic
Has Histograms: true
Has Colormap: false
Has Multi Dimensions : false
Rendering Rule:
Min Scale: 0
Max Scale: 0
Copyright Text:
Service Data Type: esriImageServiceDataTypeGeneric
Min Values: 371.6719970703125
Max Values: 3345.9091796875
Mean Values: 1074.1319841646036
Standard Deviation Values: 429.15873913660647
Object ID Field:
Fields:
None
Default Mosaic Method: Center
Allowed Mosaic Methods:
SortField:
SortValue: null
Mosaic Operator: First
Default Compression Quality: 75
Default Resampling Method: Bilinear
Max Record Count: null
Max Image Height: 4100
Max Image Width: 15000
Max Download Image Count: null
Max Mosaic Image Count: null
Allow Raster Function: true
Allow Copy: null
Allow Analysis: null
Allow Compute TiePoints: false
Supports Statistics: false
Supports Advanced Queries: false
Use StandardizedQueries: true
Raster Type Infos:
Name: Raster Dataset
Description: Supports all ArcGIS Raster Datasets
Help:
Has Raster Attribute Table: false
Edit Fields Info: null
Ownership Based AccessControl For Rasters: null
Child Resources:
Info
Histograms
Key Properties
Legend
Raster Function Infos
Supported Operations:
Export Image
Identify
Measure
Compute Histograms
Compute Statistics Histograms
Get Samples
Compute Class Statistics
Query Boundary
Compute Pixel Location
Compute Angles
Validate
Project