View In:
ArcGIS JavaScript
ArcGIS Online Map Viewer
ArcGIS Earth
ArcMap
View Footprint In:
ArcGIS Online Map Viewer
Service Description: Carta geologica del Bacino del Fiume Crati, di T. Taramelli, allegata alla Descrizione orografica e geologica del bacino del fiume Crati nella Calabria Citeriore. 1880, 20x40 cm
Name: carte_storiche/1880_Taramelli_01_B12186
Description: Carta geologica del Bacino del Fiume Crati, di T. Taramelli, allegata alla Descrizione orografica e geologica del bacino del fiume Crati nella Calabria Citeriore. 1880, 20x40 cm
Single Fused Map Cache: false
Extent:
XMin: 1084180.476890435
YMin: 4357907.102920467
XMax: 1162460.7480949413
YMax: 4457798.639329805
Spatial Reference: 23032
(23032)
Initial Extent:
XMin: 1084180.476890435
YMin: 4357907.102920467
XMax: 1162460.7480949413
YMax: 4457798.639329805
Spatial Reference: 23032
(23032)
Full Extent:
XMin: 1084180.476890435
YMin: 4357907.102920467
XMax: 1162460.7480949413
YMax: 4457798.639329805
Spatial Reference: 23032
(23032)
Pixel Size X: 27.897459445654412
Pixel Size Y: 25.825112825578596
Band Count: 3
Pixel Type: U8
RasterFunction Infos: {"rasterFunctionInfos": [{
"name": "None",
"description": "",
"help": ""
}]}
Mensuration Capabilities: Basic
Has Histograms: false
Has Colormap: false
Has Multi Dimensions : false
Rendering Rule:
Min Scale: 0
Max Scale: 0
Copyright Text:
Service Data Type: esriImageServiceDataTypeRGB
Min Values: N/A
Max Values: N/A
Mean Values: N/A
Standard Deviation Values: N/A
Object ID Field:
Fields:
None
Default Mosaic Method: Center
Allowed Mosaic Methods:
SortField:
SortValue: null
Mosaic Operator: First
Default Compression Quality: 75
Default Resampling Method: Bilinear
Max Record Count: null
Max Image Height: 4100
Max Image Width: 15000
Max Download Image Count: null
Max Mosaic Image Count: null
Allow Raster Function: true
Allow Copy: null
Allow Analysis: null
Allow Compute TiePoints: false
Supports Statistics: false
Supports Advanced Queries: false
Use StandardizedQueries: true
Raster Type Infos:
Name: Raster Dataset
Description: Supports all ArcGIS Raster Datasets
Help:
Has Raster Attribute Table: false
Edit Fields Info: null
Ownership Based AccessControl For Rasters: null
Child Resources:
Info
Key Properties
Legend
Raster Function Infos
Supported Operations:
Export Image
Identify
Measure
Compute Histograms
Compute Statistics Histograms
Get Samples
Compute Class Statistics
Query Boundary
Compute Pixel Location
Compute Angles
Validate
Project