View In:
ArcGIS JavaScript
ArcGIS Online Map Viewer
ArcGIS Earth
ArcMap
View Footprint In:
ArcGIS Online Map Viewer
Service Description: Carta geologica del circondario di Rossano, rilevata negli anni 1890-91 da Antonio Fucini. 1896, scala 1:100.000. Allegata agli Studi geologici sul circondario di Rossano in Calabria dello stesso autore. Catania
Name: carte_storiche/1896_fucini_B12179
Description: Carta geologica del circondario di Rossano, rilevata negli anni 1890-91 da Antonio Fucini. 1896, scala 1:100.000. Allegata agli Studi geologici sul circondario di Rossano in Calabria dello stesso autore. Catania
Single Fused Map Cache: false
Extent:
XMin: 1119126.747680456
YMin: 4382609.735211218
XMax: 1187395.97396217
YMax: 4422904.418849732
Spatial Reference: 23032
(23032)
Initial Extent:
XMin: 1119126.747680456
YMin: 4382609.735211218
XMax: 1187395.97396217
YMax: 4422904.418849732
Spatial Reference: 23032
(23032)
Full Extent:
XMin: 1119126.747680456
YMin: 4382609.735211218
XMax: 1187395.97396217
YMax: 4422904.418849732
Spatial Reference: 23032
(23032)
Pixel Size X: 8.93693235786283
Pixel Size Y: 9.801674443812702
Band Count: 3
Pixel Type: U8
RasterFunction Infos: {"rasterFunctionInfos": [{
"name": "None",
"description": "",
"help": ""
}]}
Mensuration Capabilities: Basic
Has Histograms: true
Has Colormap: false
Has Multi Dimensions : false
Rendering Rule:
Min Scale: 0
Max Scale: 0
Copyright Text:
Service Data Type: esriImageServiceDataTypeRGB
Min Values: 0, 0, 0
Max Values: 255, 255, 255
Mean Values: 176.70391809828, 165.77626838158, 143.0070258111
Standard Deviation Values: 85.228860156053, 86.021478960816, 80.351887595855
Object ID Field:
Fields:
None
Default Mosaic Method: Center
Allowed Mosaic Methods:
SortField:
SortValue: null
Mosaic Operator: First
Default Compression Quality: 75
Default Resampling Method: Bilinear
Max Record Count: null
Max Image Height: 4100
Max Image Width: 15000
Max Download Image Count: null
Max Mosaic Image Count: null
Allow Raster Function: true
Allow Copy: null
Allow Analysis: null
Allow Compute TiePoints: false
Supports Statistics: false
Supports Advanced Queries: false
Use StandardizedQueries: true
Raster Type Infos:
Name: Raster Dataset
Description: Supports all ArcGIS Raster Datasets
Help:
Has Raster Attribute Table: false
Edit Fields Info: null
Ownership Based AccessControl For Rasters: null
Child Resources:
Info
Histograms
Key Properties
Legend
Raster Function Infos
Supported Operations:
Export Image
Identify
Measure
Compute Histograms
Compute Statistics Histograms
Get Samples
Compute Class Statistics
Query Boundary
Compute Pixel Location
Compute Angles
Validate
Project