View In:
ArcGIS JavaScript
ArcGIS Online Map Viewer
ArcGIS Earth
ArcMap
View Footprint In:
ArcGIS Online Map Viewer
Service Description: Carta dell'Isola e Regno di Sardegna, su due fogli, dedicata alla Maestà del Re Carlo Alberto I, rilevata da Alberto Ferrero della Marmora assistito da Carlo De Candia, disegno e incisione di Arnoul Debuissons. 1845, scala 1:250.000
Name: carte_storiche/C31356_nord
Description: Carta dell'Isola e Regno di Sardegna, su due fogli, dedicata alla Maestà del Re Carlo Alberto I, rilevata da Alberto Ferrero della Marmora assistito da Carlo De Candia, disegno e incisione di Arnoul Debuissons. 1845, scala 1:250.000
Single Fused Map Cache: false
Extent:
XMin: 375364.19932534464
YMin: 4416902.425842008
XMax: 622741.9787156187
YMax: 4613211.23496021
Spatial Reference: 23032
(23032)
Initial Extent:
XMin: 375364.19932534464
YMin: 4416902.425842008
XMax: 622741.9787156187
YMax: 4613211.23496021
Spatial Reference: 23032
(23032)
Full Extent:
XMin: 375364.19932534464
YMin: 4416902.425842008
XMax: 622741.9787156187
YMax: 4613211.23496021
Spatial Reference: 23032
(23032)
Pixel Size X: 27.000412507124437
Pixel Size Y: 16.94362239929242
Band Count: 3
Pixel Type: U8
RasterFunction Infos: {"rasterFunctionInfos": [{
"name": "None",
"description": "",
"help": ""
}]}
Mensuration Capabilities: Basic
Has Histograms: true
Has Colormap: false
Has Multi Dimensions : false
Rendering Rule:
Min Scale: 0
Max Scale: 0
Copyright Text:
Service Data Type: esriImageServiceDataTypeRGB
Min Values: 0, 0, 0
Max Values: 255, 255, 255
Mean Values: 199.2996306745, 164.6335845648, 139.22384799279
Standard Deviation Values: 49.782859057501, 52.404496208859, 43.882796377617
Object ID Field:
Fields:
None
Default Mosaic Method: Center
Allowed Mosaic Methods:
SortField:
SortValue: null
Mosaic Operator: First
Default Compression Quality: 75
Default Resampling Method: Bilinear
Max Record Count: null
Max Image Height: 4100
Max Image Width: 15000
Max Download Image Count: null
Max Mosaic Image Count: null
Allow Raster Function: true
Allow Copy: null
Allow Analysis: null
Allow Compute TiePoints: false
Supports Statistics: false
Supports Advanced Queries: false
Use StandardizedQueries: true
Raster Type Infos:
Name: Raster Dataset
Description: Supports all ArcGIS Raster Datasets
Help:
Has Raster Attribute Table: false
Edit Fields Info: null
Ownership Based AccessControl For Rasters: null
Child Resources:
Info
Histograms
Key Properties
Legend
Raster Function Infos
Supported Operations:
Export Image
Identify
Measure
Compute Histograms
Compute Statistics Histograms
Get Samples
Compute Class Statistics
Query Boundary
Compute Pixel Location
Compute Angles
Validate
Project