View In:
ArcGIS JavaScript
ArcGIS Online Map Viewer
ArcGIS Earth
ArcMap
View Footprint In:
ArcGIS Online Map Viewer
Service Description: *Carta Geologica Del Monte Vulture, rilevata nel 1898 da Giuseppe De Lorenzo. 1901, scala 1:100.000. Contiene anche “Ghiacciai, laghi e vulcani quaternari della Lucania”.
Name: carte_storiche/Carta_Vulture_De_lorenzo
Description: *Carta Geologica Del Monte Vulture, rilevata nel 1898 da Giuseppe De Lorenzo. 1901, scala 1:100.000. Contiene anche “Ghiacciai, laghi e vulcani quaternari della Lucania”.
Single Fused Map Cache: false
Extent:
XMin: 1042047.8999292634
YMin: 4535484.527389354
XMax: 1087529.303015108
YMax: 4568718.325479771
Spatial Reference: 23032
(23032)
Initial Extent:
XMin: 1042047.8999292634
YMin: 4535484.527389354
XMax: 1087529.303015108
YMax: 4568718.325479771
Spatial Reference: 23032
(23032)
Full Extent:
XMin: 1042047.8999292634
YMin: 4535484.527389354
XMax: 1087529.303015108
YMax: 4568718.325479771
Spatial Reference: 23032
(23032)
Pixel Size X: 11.18028591097458
Pixel Size Y: 11.94600937829509
Band Count: 3
Pixel Type: U8
RasterFunction Infos: {"rasterFunctionInfos": [{
"name": "None",
"description": "",
"help": ""
}]}
Mensuration Capabilities: Basic
Has Histograms: true
Has Colormap: false
Has Multi Dimensions : false
Rendering Rule:
Min Scale: 0
Max Scale: 0
Copyright Text:
Service Data Type: esriImageServiceDataTypeRGB
Min Values: 0, 0, 0
Max Values: 255, 255, 250
Mean Values: 170.62253986054, 148.58278572971, 105.1816541863
Standard Deviation Values: 70.579026695716, 75.269436982141, 74.638192919184
Object ID Field:
Fields:
None
Default Mosaic Method: Center
Allowed Mosaic Methods:
SortField:
SortValue: null
Mosaic Operator: First
Default Compression Quality: 75
Default Resampling Method: Bilinear
Max Record Count: null
Max Image Height: 4100
Max Image Width: 15000
Max Download Image Count: null
Max Mosaic Image Count: null
Allow Raster Function: true
Allow Copy: null
Allow Analysis: null
Allow Compute TiePoints: false
Supports Statistics: false
Supports Advanced Queries: false
Use StandardizedQueries: true
Raster Type Infos:
Name: Raster Dataset
Description: Supports all ArcGIS Raster Datasets
Help:
Has Raster Attribute Table: false
Edit Fields Info: null
Ownership Based AccessControl For Rasters: null
Child Resources:
Info
Histograms
Key Properties
Legend
Raster Function Infos
Supported Operations:
Export Image
Identify
Measure
Compute Histograms
Compute Statistics Histograms
Get Samples
Compute Class Statistics
Query Boundary
Compute Pixel Location
Compute Angles
Validate
Project