View In:
ArcGIS JavaScript
ArcGIS Online Map Viewer
ArcGIS Earth
ArcMap
View Footprint In:
ArcGIS Online Map Viewer
Service Description: Carta geologica del Friuli, di Torquato Taramelli, rlevata negli anni 1867-74 e pubblicata in occasione del II Congresso geologico internazionale di Bologna. 1881, scala 1:200.000
Name: carte_storiche/c28632
Description: Carta geologica del Friuli, di Torquato Taramelli, rlevata negli anni 1867-74 e pubblicata in occasione del II Congresso geologico internazionale di Bologna. 1881, scala 1:200.000
Single Fused Map Cache: false
Extent:
XMin: 746232.3505794756
YMin: 5028160.211147936
XMax: 877835.1659386506
YMax: 5186507.601532715
Spatial Reference: 23032
(23032)
Initial Extent:
XMin: 746232.3505794756
YMin: 5028160.211147936
XMax: 877835.1659386506
YMax: 5186507.601532715
Spatial Reference: 23032
(23032)
Full Extent:
XMin: 746232.3505794756
YMin: 5028160.211147936
XMax: 877835.1659386506
YMax: 5186507.601532715
Spatial Reference: 23032
(23032)
Pixel Size X: 37.0712155941338
Pixel Size Y: 35.81709802867661
Band Count: 3
Pixel Type: U8
RasterFunction Infos: {"rasterFunctionInfos": [{
"name": "None",
"description": "",
"help": ""
}]}
Mensuration Capabilities: Basic
Has Histograms: true
Has Colormap: false
Has Multi Dimensions : false
Rendering Rule:
Min Scale: 0
Max Scale: 0
Copyright Text:
Service Data Type: esriImageServiceDataTypeRGB
Min Values: 0, 0, 0
Max Values: 217, 206, 218
Mean Values: 164.50563796821, 146.16049439479, 127.56295628659
Standard Deviation Values: 27.021373357892, 23.845332696088, 25.183389933206
Object ID Field:
Fields:
None
Default Mosaic Method: Center
Allowed Mosaic Methods:
SortField:
SortValue: null
Mosaic Operator: First
Default Compression Quality: 75
Default Resampling Method: Bilinear
Max Record Count: null
Max Image Height: 4100
Max Image Width: 15000
Max Download Image Count: null
Max Mosaic Image Count: null
Allow Raster Function: true
Allow Copy: null
Allow Analysis: null
Allow Compute TiePoints: false
Supports Statistics: false
Supports Advanced Queries: false
Use StandardizedQueries: true
Raster Type Infos:
Name: Raster Dataset
Description: Supports all ArcGIS Raster Datasets
Help:
Has Raster Attribute Table: false
Edit Fields Info: null
Ownership Based AccessControl For Rasters: null
Child Resources:
Info
Histograms
Key Properties
Legend
Raster Function Infos
Supported Operations:
Export Image
Identify
Measure
Compute Histograms
Compute Statistics Histograms
Get Samples
Compute Class Statistics
Query Boundary
Compute Pixel Location
Compute Angles
Validate
Project