View In:
ArcGIS JavaScript
ArcGIS Online Map Viewer
ArcGIS Earth
ArcMap
View Footprint In:
ArcGIS Online Map Viewer
Service Description: Carta geologica su due fogli delle provincie Lombarde, di Giulio Curioni, con note illustrative manoscritte. 1875, scala 1:72.800
Name: carte_storiche/cgpl001
Description: Carta geologica su due fogli delle provincie Lombarde, di Giulio Curioni, con note illustrative manoscritte. 1875, scala 1:72.800
Single Fused Map Cache: false
Extent:
XMin: 553853.6165492918
YMin: 5011482.838039626
XMax: 659673.3031356761
YMax: 5173282.889641215
Spatial Reference: 23032
(23032)
Initial Extent:
XMin: 553853.6165492918
YMin: 5011482.838039626
XMax: 659673.3031356761
YMax: 5173282.889641215
Spatial Reference: 23032
(23032)
Full Extent:
XMin: 553853.6165492918
YMin: 5011482.838039626
XMax: 659673.3031356761
YMax: 5173282.889641215
Spatial Reference: 23032
(23032)
Pixel Size X: 29.867255598753687
Pixel Size Y: 29.780977655363284
Band Count: 3
Pixel Type: U8
RasterFunction Infos: {"rasterFunctionInfos": [{
"name": "None",
"description": "",
"help": ""
}]}
Mensuration Capabilities: Basic
Has Histograms: true
Has Colormap: false
Has Multi Dimensions : false
Rendering Rule:
Min Scale: 0
Max Scale: 0
Copyright Text:
Service Data Type: esriImageServiceDataTypeRGB
Min Values: 0, 0, 0
Max Values: 255, 255, 255
Mean Values: 148.20418837155, 134.87672616252, 99.655804895292
Standard Deviation Values: 74.453136291808, 71.777351060257, 66.489765533411
Object ID Field:
Fields:
None
Default Mosaic Method: Center
Allowed Mosaic Methods:
SortField:
SortValue: null
Mosaic Operator: First
Default Compression Quality: 75
Default Resampling Method: Bilinear
Max Record Count: null
Max Image Height: 4100
Max Image Width: 15000
Max Download Image Count: null
Max Mosaic Image Count: null
Allow Raster Function: true
Allow Copy: null
Allow Analysis: null
Allow Compute TiePoints: false
Supports Statistics: false
Supports Advanced Queries: false
Use StandardizedQueries: true
Raster Type Infos:
Name: Raster Dataset
Description: Supports all ArcGIS Raster Datasets
Help:
Has Raster Attribute Table: false
Edit Fields Info: null
Ownership Based AccessControl For Rasters: null
Child Resources:
Info
Histograms
Key Properties
Legend
Raster Function Infos
Supported Operations:
Export Image
Identify
Measure
Compute Histograms
Compute Statistics Histograms
Get Samples
Compute Class Statistics
Query Boundary
Compute Pixel Location
Compute Angles
Validate
Project