View In:
ArcGIS JavaScript
ArcGIS Online Map Viewer
ArcGIS Earth
ArcMap
View Footprint In:
ArcGIS Online Map Viewer
Service Description: Carta geologica su due fogli delle provincie Lombarde, di Giulio Curioni, con note illustrative manoscritte. 1875, scala 1:72.800
Name: carte_storiche/cgpl002
Description: Carta geologica su due fogli delle provincie Lombarde, di Giulio Curioni, con note illustrative manoscritte. 1875, scala 1:72.800
Single Fused Map Cache: false
Extent:
XMin: 451983.92412698077
YMin: 5017085.09832342
XMax: 566378.7944319958
YMax: 5177825.332754819
Spatial Reference: 23032
(23032)
Initial Extent:
XMin: 451983.92412698077
YMin: 5017085.09832342
XMax: 566378.7944319958
YMax: 5177825.332754819
Spatial Reference: 23032
(23032)
Full Extent:
XMin: 451983.92412698077
YMin: 5017085.09832342
XMax: 566378.7944319958
YMax: 5177825.332754819
Spatial Reference: 23032
(23032)
Pixel Size X: 29.798090728058106
Pixel Size Y: 29.58590731297608
Band Count: 3
Pixel Type: U8
RasterFunction Infos: {"rasterFunctionInfos": [{
"name": "None",
"description": "",
"help": ""
}]}
Mensuration Capabilities: Basic
Has Histograms: true
Has Colormap: false
Has Multi Dimensions : false
Rendering Rule:
Min Scale: 0
Max Scale: 0
Copyright Text:
Service Data Type: esriImageServiceDataTypeRGB
Min Values: 0, 0, 0
Max Values: 255, 251, 255
Mean Values: 151.41221459438, 130.16877918396, 98.533124597668
Standard Deviation Values: 59.605216305682, 56.405363393425, 54.386885310971
Object ID Field:
Fields:
None
Default Mosaic Method: Center
Allowed Mosaic Methods:
SortField:
SortValue: null
Mosaic Operator: First
Default Compression Quality: 75
Default Resampling Method: Bilinear
Max Record Count: null
Max Image Height: 4100
Max Image Width: 15000
Max Download Image Count: null
Max Mosaic Image Count: null
Allow Raster Function: true
Allow Copy: null
Allow Analysis: null
Allow Compute TiePoints: false
Supports Statistics: false
Supports Advanced Queries: false
Use StandardizedQueries: true
Raster Type Infos:
Name: Raster Dataset
Description: Supports all ArcGIS Raster Datasets
Help:
Has Raster Attribute Table: false
Edit Fields Info: null
Ownership Based AccessControl For Rasters: null
Child Resources:
Info
Histograms
Key Properties
Legend
Raster Function Infos
Supported Operations:
Export Image
Identify
Measure
Compute Histograms
Compute Statistics Histograms
Get Samples
Compute Class Statistics
Query Boundary
Compute Pixel Location
Compute Angles
Validate
Project