View In:
ArcGIS JavaScript
ArcGIS Online Map Viewer
ArcGIS Earth
ArcMap
View Footprint In:
ArcGIS Online Map Viewer
Service Description: Carta geologica su due fogli dello Stretto di Messina, di Enzo Beneo direttore del foglio; rilevatori: Jacobacci A., Malatesta A., Motta S. in collaborazione con Regione Siciliana, Assessorato per i Lavori Pubblici. 1964(?), scala 1:25 000
Name: carte_storiche/cgsm002
Description: Carta geologica su due fogli dello Stretto di Messina, di Enzo Beneo direttore del foglio; rilevatori: Jacobacci A., Malatesta A., Motta S. in collaborazione con Regione Siciliana, Assessorato per i Lavori Pubblici. 1964(?), scala 1:25 000
Single Fused Map Cache: false
Extent:
XMin: 1062668.9566537417
YMin: 4241463.238551148
XMax: 1082073.5864477789
YMax: 4264357.550592029
Spatial Reference: 23032
(23032)
Initial Extent:
XMin: 1062668.9566537417
YMin: 4241463.238551148
XMax: 1082073.5864477789
YMax: 4264357.550592029
Spatial Reference: 23032
(23032)
Full Extent:
XMin: 1062668.9566537417
YMin: 4241463.238551148
XMax: 1082073.5864477789
YMax: 4264357.550592029
Spatial Reference: 23032
(23032)
Pixel Size X: 4.627863056054663
Pixel Size Y: 4.50764166979333
Band Count: 3
Pixel Type: U8
RasterFunction Infos: {"rasterFunctionInfos": [{
"name": "None",
"description": "",
"help": ""
}]}
Mensuration Capabilities: Basic
Has Histograms: true
Has Colormap: false
Has Multi Dimensions : false
Rendering Rule:
Min Scale: 0
Max Scale: 0
Copyright Text:
Service Data Type: esriImageServiceDataTypeRGB
Min Values: 0, 0, 0
Max Values: 255, 255, 255
Mean Values: 212.27207870482, 191.04617031877, 159.47248577287
Standard Deviation Values: 53.5692631427, 74.411594230643, 71.321310263107
Object ID Field:
Fields:
None
Default Mosaic Method: Center
Allowed Mosaic Methods:
SortField:
SortValue: null
Mosaic Operator: First
Default Compression Quality: 75
Default Resampling Method: Bilinear
Max Record Count: null
Max Image Height: 4100
Max Image Width: 15000
Max Download Image Count: null
Max Mosaic Image Count: null
Allow Raster Function: true
Allow Copy: null
Allow Analysis: null
Allow Compute TiePoints: false
Supports Statistics: false
Supports Advanced Queries: false
Use StandardizedQueries: true
Raster Type Infos:
Name: Raster Dataset
Description: Supports all ArcGIS Raster Datasets
Help:
Has Raster Attribute Table: false
Edit Fields Info: null
Ownership Based AccessControl For Rasters: null
Child Resources:
Info
Histograms
Key Properties
Legend
Raster Function Infos
Supported Operations:
Export Image
Identify
Measure
Compute Histograms
Compute Statistics Histograms
Get Samples
Compute Class Statistics
Query Boundary
Compute Pixel Location
Compute Angles
Validate
Project