View In:
ArcGIS JavaScript
ArcGIS Online Map Viewer
ArcGIS Earth
ArcMap
View Footprint In:
ArcGIS Online Map Viewer
Service Description: Abbozzo di carta geologica della Basilicata, di Cosimo De Giorgi. 1879, scala 1:400.000. Roma, Stab. Lit. Virano e Teano, 39x31 cm
Name: carte_storiche/null053
Description: Abbozzo di carta geologica della Basilicata, di Cosimo De Giorgi. 1879, scala 1:400.000. Roma, Stab. Lit. Virano e Teano, 39x31 cm
Single Fused Map Cache: false
Extent:
XMin: 1017403.7758783519
YMin: 4389566.68897677
XMax: 1197666.3350898128
YMax: 4622760.645028313
Spatial Reference: 23032
(23032)
Initial Extent:
XMin: 1017403.7758783519
YMin: 4389566.68897677
XMax: 1197666.3350898128
YMax: 4622760.645028313
Spatial Reference: 23032
(23032)
Full Extent:
XMin: 1017403.7758783519
YMin: 4389566.68897677
XMax: 1197666.3350898128
YMax: 4622760.645028313
Spatial Reference: 23032
(23032)
Pixel Size X: 72.68651581107294
Pixel Size Y: 68.08582658439195
Band Count: 3
Pixel Type: U8
RasterFunction Infos: {"rasterFunctionInfos": [{
"name": "None",
"description": "",
"help": ""
}]}
Mensuration Capabilities: Basic
Has Histograms: true
Has Colormap: false
Has Multi Dimensions : false
Rendering Rule:
Min Scale: 0
Max Scale: 0
Copyright Text:
Service Data Type: esriImageServiceDataTypeRGB
Min Values: 0, 0, 0
Max Values: 253, 255, 255
Mean Values: 173.72284642313, 159.89085575437, 124.64683264451
Standard Deviation Values: 50.279468610538, 50.212409819912, 61.005327608849
Object ID Field:
Fields:
None
Default Mosaic Method: Center
Allowed Mosaic Methods:
SortField:
SortValue: null
Mosaic Operator: First
Default Compression Quality: 75
Default Resampling Method: Bilinear
Max Record Count: null
Max Image Height: 4100
Max Image Width: 15000
Max Download Image Count: null
Max Mosaic Image Count: null
Allow Raster Function: true
Allow Copy: null
Allow Analysis: null
Allow Compute TiePoints: false
Supports Statistics: false
Supports Advanced Queries: false
Use StandardizedQueries: true
Raster Type Infos:
Name: Raster Dataset
Description: Supports all ArcGIS Raster Datasets
Help:
Has Raster Attribute Table: false
Edit Fields Info: null
Ownership Based AccessControl For Rasters: null
Child Resources:
Info
Histograms
Key Properties
Legend
Raster Function Infos
Supported Operations:
Export Image
Identify
Measure
Compute Histograms
Compute Statistics Histograms
Get Samples
Compute Class Statistics
Query Boundary
Compute Pixel Location
Compute Angles
Validate
Project