View In:
ArcGIS JavaScript
ArcGIS Online Map Viewer
ArcGIS Earth
ArcMap
View Footprint In:
ArcGIS Online Map Viewer
Service Description: Carta geologica della Sicilia del R. Corpo delle Miniere. Autori L. Baldacci, E. Cortese, M. Anselmo, R. Travaglia ; alta direzione scientifica G.G. Gemmellaro. 1883, scala 1:500.000 con Nota illustrativa. Roma, Stab. Lit. Virano e Teano, 81x106 cm.
Name: carte_storiche/null061
Description: Carta geologica della Sicilia del R. Corpo delle Miniere. Autori L. Baldacci, E. Cortese, M. Anselmo, R. Travaglia ; alta direzione scientifica G.G. Gemmellaro. 1883, scala 1:500.000 con Nota illustrativa. Roma, Stab. Lit. Virano e Teano, 81x106 cm.
Single Fused Map Cache: false
Extent:
XMin: 650644.9467830707
YMin: 3898113.1934322156
XMax: 1268547.1756354428
YMax: 4327405.563895473
Spatial Reference: 23032
(23032)
Initial Extent:
XMin: 650644.9467830707
YMin: 3898113.1934322156
XMax: 1268547.1756354428
YMax: 4327405.563895473
Spatial Reference: 23032
(23032)
Full Extent:
XMin: 650644.9467830707
YMin: 3898113.1934322156
XMax: 1268547.1756354428
YMax: 4327405.563895473
Spatial Reference: 23032
(23032)
Pixel Size X: 87.18812316246256
Pixel Size Y: 88.66013433772359
Band Count: 3
Pixel Type: U8
RasterFunction Infos: {"rasterFunctionInfos": [{
"name": "None",
"description": "",
"help": ""
}]}
Mensuration Capabilities: Basic
Has Histograms: true
Has Colormap: false
Has Multi Dimensions : false
Rendering Rule:
Min Scale: 0
Max Scale: 0
Copyright Text:
Service Data Type: esriImageServiceDataTypeRGB
Min Values: 0, 0, 0
Max Values: 255, 255, 255
Mean Values: 206.60492678938, 183.40344514093, 153.86830058334
Standard Deviation Values: 48.943103249633, 52.050120548299, 56.372202172272
Object ID Field:
Fields:
None
Default Mosaic Method: Center
Allowed Mosaic Methods:
SortField:
SortValue: null
Mosaic Operator: First
Default Compression Quality: 75
Default Resampling Method: Bilinear
Max Record Count: null
Max Image Height: 4100
Max Image Width: 15000
Max Download Image Count: null
Max Mosaic Image Count: null
Allow Raster Function: true
Allow Copy: null
Allow Analysis: null
Allow Compute TiePoints: false
Supports Statistics: false
Supports Advanced Queries: false
Use StandardizedQueries: true
Raster Type Infos:
Name: Raster Dataset
Description: Supports all ArcGIS Raster Datasets
Help:
Has Raster Attribute Table: false
Edit Fields Info: null
Ownership Based AccessControl For Rasters: null
Child Resources:
Info
Histograms
Key Properties
Legend
Raster Function Infos
Supported Operations:
Export Image
Identify
Measure
Compute Histograms
Compute Statistics Histograms
Get Samples
Compute Class Statistics
Query Boundary
Compute Pixel Location
Compute Angles
Validate
Project