View In:
ArcGIS JavaScript
ArcGIS Online Map Viewer
ArcGIS Earth
ArcMap
View Footprint In:
ArcGIS Online Map Viewer
Service Description: Carta della parte settentrionale dell'Etna: eruzione del 1879 con relazione allegata di Luigi Baldacci, Luigi Mezzetti e Riccardo Travaglia geologi del R. Ufficio geologico d’Italia. 1879, scala 1:50 000. Roma, Stab. Lit. Virano e Teano, 37x43 cm
Name: carte_storiche/null062
Description: Carta della parte settentrionale dell'Etna: eruzione del 1879 con relazione allegata di Luigi Baldacci, Luigi Mezzetti e Riccardo Travaglia geologi del R. Ufficio geologico d’Italia. 1879, scala 1:50 000. Roma, Stab. Lit. Virano e Teano, 37x43 cm
Single Fused Map Cache: false
Extent:
XMin: 1018737.9398778158
YMin: 4191022.5691750413
XMax: 1044330.6308791939
YMax: 4219060.101738881
Spatial Reference: 23032
(23032)
Initial Extent:
XMin: 1018737.9398778158
YMin: 4191022.5691750413
XMax: 1044330.6308791939
YMax: 4219060.101738881
Spatial Reference: 23032
(23032)
Full Extent:
XMin: 1018737.9398778158
YMin: 4191022.5691750413
XMax: 1044330.6308791939
YMax: 4219060.101738881
Spatial Reference: 23032
(23032)
Pixel Size X: 9.02740423329034
Pixel Size Y: 8.791951258651627
Band Count: 3
Pixel Type: U8
RasterFunction Infos: {"rasterFunctionInfos": [{
"name": "None",
"description": "",
"help": ""
}]}
Mensuration Capabilities: Basic
Has Histograms: true
Has Colormap: false
Has Multi Dimensions : false
Rendering Rule:
Min Scale: 0
Max Scale: 0
Copyright Text:
Service Data Type: esriImageServiceDataTypeRGB
Min Values: 0, 0, 0
Max Values: 255, 255, 255
Mean Values: 205.91281086129, 184.71827442946, 150.355888636
Standard Deviation Values: 26.704021152619, 34.058637289371, 43.512776968477
Object ID Field:
Fields:
None
Default Mosaic Method: Center
Allowed Mosaic Methods:
SortField:
SortValue: null
Mosaic Operator: First
Default Compression Quality: 75
Default Resampling Method: Bilinear
Max Record Count: null
Max Image Height: 4100
Max Image Width: 15000
Max Download Image Count: null
Max Mosaic Image Count: null
Allow Raster Function: true
Allow Copy: null
Allow Analysis: null
Allow Compute TiePoints: false
Supports Statistics: false
Supports Advanced Queries: false
Use StandardizedQueries: true
Raster Type Infos:
Name: Raster Dataset
Description: Supports all ArcGIS Raster Datasets
Help:
Has Raster Attribute Table: false
Edit Fields Info: null
Ownership Based AccessControl For Rasters: null
Child Resources:
Info
Histograms
Key Properties
Legend
Raster Function Infos
Supported Operations:
Export Image
Identify
Measure
Compute Histograms
Compute Statistics Histograms
Get Samples
Compute Class Statistics
Query Boundary
Compute Pixel Location
Compute Angles
Validate
Project