View In:
ArcGIS JavaScript
ArcGIS Online Map Viewer
ArcGIS Earth
ArcMap
View Footprint In:
ArcGIS Online Map Viewer
Service Description: Carta geologica di Savoja, Piemonte e Liguria, del Commendatore Angelo Sismonda, pubblicata per cura del governo di S.M. Vittorio Emanuele II Re d'Italia. 1866, scala 1:500.000
Name: carte_storiche/null067
Description: Carta geologica di Savoja, Piemonte e Liguria, del Commendatore Angelo Sismonda, pubblicata per cura del governo di S.M. Vittorio Emanuele II Re d'Italia. 1866, scala 1:500.000
Single Fused Map Cache: false
Extent:
XMin: 166512.5920644441
YMin: 4792857.109129655
XMax: 619008.3411717156
YMax: 5192531.265220933
Spatial Reference: 23032
(23032)
Initial Extent:
XMin: 166512.5920644441
YMin: 4792857.109129655
XMax: 619008.3411717156
YMax: 5192531.265220933
Spatial Reference: 23032
(23032)
Full Extent:
XMin: 166512.5920644441
YMin: 4792857.109129655
XMax: 619008.3411717156
YMax: 5192531.265220933
Spatial Reference: 23032
(23032)
Pixel Size X: 99.51522962552706
Pixel Size Y: 76.9047827768477
Band Count: 3
Pixel Type: U8
RasterFunction Infos: {"rasterFunctionInfos": [{
"name": "None",
"description": "",
"help": ""
}]}
Mensuration Capabilities: Basic
Has Histograms: true
Has Colormap: false
Has Multi Dimensions : false
Rendering Rule:
Min Scale: 0
Max Scale: 0
Copyright Text:
Service Data Type: esriImageServiceDataTypeRGB
Min Values: 0, 0, 0
Max Values: 254, 245, 255
Mean Values: 155.99531185899, 140.01581303226, 109.10359069628
Standard Deviation Values: 57.892905625848, 53.696859435801, 50.323621796206
Object ID Field:
Fields:
None
Default Mosaic Method: Center
Allowed Mosaic Methods:
SortField:
SortValue: null
Mosaic Operator: First
Default Compression Quality: 75
Default Resampling Method: Bilinear
Max Record Count: null
Max Image Height: 4100
Max Image Width: 15000
Max Download Image Count: null
Max Mosaic Image Count: null
Allow Raster Function: true
Allow Copy: null
Allow Analysis: null
Allow Compute TiePoints: false
Supports Statistics: false
Supports Advanced Queries: false
Use StandardizedQueries: true
Raster Type Infos:
Name: Raster Dataset
Description: Supports all ArcGIS Raster Datasets
Help:
Has Raster Attribute Table: false
Edit Fields Info: null
Ownership Based AccessControl For Rasters: null
Child Resources:
Info
Histograms
Key Properties
Legend
Raster Function Infos
Supported Operations:
Export Image
Identify
Measure
Compute Histograms
Compute Statistics Histograms
Get Samples
Compute Class Statistics
Query Boundary
Compute Pixel Location
Compute Angles
Validate
Project