View In:
ArcGIS JavaScript
ArcGIS Online Map Viewer
ArcGIS Earth
ArcMap
View Footprint In:
ArcGIS Online Map Viewer
Service Description: METIQ hillshade terra
Name: servizi/METIQ_terraHillshade
Description: METIQ hillshade terra
Single Fused Map Cache: false
Extent:
XMin: 6.268100939860167
YMin: 35.087821789243904
XMax: 19.751016546394403
YMax: 47.23038558681045
Spatial Reference: 4258
(4258)
Initial Extent:
XMin: 6.268100939860167
YMin: 35.087821789243904
XMax: 19.751016546394403
YMax: 47.23038558681045
Spatial Reference: 4258
(4258)
Full Extent:
XMin: 6.268100939860167
YMin: 35.087821789243904
XMax: 19.751016546394403
YMax: 47.23038558681045
Spatial Reference: 4258
(4258)
Pixel Size X: 2.7664640019972993E-4
Pixel Size Y: 2.7664640019972993E-4
Band Count: 1
Pixel Type: U8
RasterFunction Infos: {"rasterFunctionInfos": [{
"name": "None",
"description": "",
"help": ""
}]}
Mensuration Capabilities: Basic
Has Histograms: true
Has Colormap: false
Has Multi Dimensions : false
Rendering Rule:
Min Scale: 0
Max Scale: 0
Copyright Text:
Service Data Type: esriImageServiceDataTypeGeneric
Min Values: 0
Max Values: 254
Mean Values: 172.71441056005
Standard Deviation Values: 35.478969883778
Object ID Field:
Fields:
None
Default Mosaic Method: Center
Allowed Mosaic Methods:
SortField:
SortValue: null
Mosaic Operator: First
Default Compression Quality: 75
Default Resampling Method: Bilinear
Max Record Count: null
Max Image Height: 4100
Max Image Width: 15000
Max Download Image Count: null
Max Mosaic Image Count: null
Allow Raster Function: true
Allow Copy: null
Allow Analysis: null
Allow Compute TiePoints: false
Supports Statistics: false
Supports Advanced Queries: false
Use StandardizedQueries: true
Raster Type Infos:
Name: Raster Dataset
Description: Supports all ArcGIS Raster Datasets
Help:
Has Raster Attribute Table: true
Edit Fields Info: null
Ownership Based AccessControl For Rasters: null
Child Resources:
Info
Raster Attribute Table
Histograms
Key Properties
Legend
Raster Function Infos
Supported Operations:
Export Image
Identify
Measure
Compute Histograms
Compute Statistics Histograms
Get Samples
Compute Class Statistics
Query Boundary
Compute Pixel Location
Compute Angles
Validate
Project