View In:
ArcGIS JavaScript
ArcGIS Online Map Viewer
ArcGIS Earth
ArcMap
View Footprint In:
ArcGIS Online Map Viewer
Service Description: La mappa rappresenta la variazione annua della temperatura superficiale del mare espressa in °C/anno relativa al periodo 2008-2022. I dati sono ricavati dalla piattaforma Copernicus (https://www.copernicus.eu/it/servizi/ambiente-marino)
Name: clima/Variazione_annua_media_Tmare_2008_2022
Description: La mappa rappresenta la variazione annua della temperatura superficiale del mare espressa in °C/anno relativa al periodo 2008-2022. I dati sono ricavati dalla piattaforma Copernicus (https://www.copernicus.eu/it/servizi/ambiente-marino)
Single Fused Map Cache: false
Extent:
XMin: 4
YMin: 32.00000000000079
XMax: 21.999999999998995
YMax: 46.00000000000001
Spatial Reference: 4326
(4326)
Initial Extent:
XMin: 4
YMin: 32.00000000000079
XMax: 21.999999999998995
YMax: 46.00000000000001
Spatial Reference: 4326
(4326)
Full Extent:
XMin: 4
YMin: 32.00000000000079
XMax: 21.999999999998995
YMax: 46.00000000000001
Spatial Reference: 4326
(4326)
Pixel Size X: 0.008333333333332868
Pixel Size Y: 0.008333333333332868
Band Count: 3
Pixel Type: U8
RasterFunction Infos: {"rasterFunctionInfos": [{
"name": "None",
"description": "",
"help": ""
}]}
Mensuration Capabilities: Basic
Has Histograms: false
Has Colormap: false
Has Multi Dimensions : false
Rendering Rule:
Min Scale: 0
Max Scale: 0
Copyright Text:
Service Data Type: esriImageServiceDataTypeRGB
Min Values: N/A
Max Values: N/A
Mean Values: N/A
Standard Deviation Values: N/A
Object ID Field:
Fields:
None
Default Mosaic Method: Center
Allowed Mosaic Methods:
SortField:
SortValue: null
Mosaic Operator: First
Default Compression Quality: 75
Default Resampling Method: Nearest
Max Record Count: null
Max Image Height: 4100
Max Image Width: 15000
Max Download Image Count: null
Max Mosaic Image Count: null
Allow Raster Function: true
Allow Copy: null
Allow Analysis: null
Allow Compute TiePoints: false
Supports Statistics: false
Supports Advanced Queries: false
Use StandardizedQueries: true
Raster Type Infos:
Name: Raster Dataset
Description: Supports all ArcGIS Raster Datasets
Help:
Has Raster Attribute Table: false
Edit Fields Info: null
Ownership Based AccessControl For Rasters: null
Child Resources:
Info
Key Properties
Legend
Raster Function Infos
Supported Operations:
Export Image
Identify
Measure
Compute Histograms
Compute Statistics Histograms
Get Samples
Compute Class Statistics
Query Boundary
Compute Pixel Location
Compute Angles
Validate
Project